Workbook

Sheet Entry
A2: Days | B2: 1 W | C2: 2 TH | D2: 3 F | E2: 4 ST | F2: 5 S | G2: M | H2: 7 T | I2: 8 W | J2: 9 TH | K2: 10 F | L2: 11 ST | M2: 12 S | N2: 13 M | O2: 14 T | P2: 15 W | Q2: 16 TH | R2: 17 F | S2: 18 ST | T2: 19 S | U2: 20 M | V2: 21 T | W2: 22 W | X2: 23 TH | Y2: 24 F | Z2: 25 ST | AA2: 26 S | AB2: 27 M | AC2: 28 T | AD2: 29 W | AE2: 30 TH | AF2: 31 F
A3: DR. HIRAMAN DAS BANJARE | B3: GS | C3: GS | D3: GS | E3: GS | F3: O | G3: GS | H3: GS | I3: GS | J3: GS | K3: GS | L3: GS | M3: O | N3: GS | O3: O | P3: GS | Q3: GS | R3: GS | S3: GS | T3: O | U3: GS | V3: GS | W3: GS | X3: GS | Y3: GS | Z3: GS | AA3: O | AB3: GS | AC3: GS | AD3: GS | AE3: GS | AF3: GS
A4: DR. ASHWANI PRADHAN | B4: GS | C4: GS | D4: GS | E4: GS | F4: O | G4: GS | H4: GS | I4: GS | J4: GS | K4: GS | L4: GS | M4: O | N4: GS | O4: O | P4: GS | Q4: GS | R4: GS | S4: GS | T4: O | U4: GS | V4: GS | W4: GS | X4: GS | Y4: GS | Z4: GS | AA4: O | AB4: GS | AC4: GS | AD4: GS | AE4: GS | AF4: GS
A5: DR. PANKAJ VERMA | B5: GS | C5: GS | D5: GS | E5: GS | F5: O | G5: GS | H5: GS | I5: GS | J5: GS | K5: GS | L5: GS | M5: O | N5: GS | O5: O | P5: GS | Q5: GS | R5: GS | S5: GS | T5: O | U5: GS | V5: GS | W5: GS | X5: GS | Y5: GS | Z5: GS | AA5: O | AB5: GS | AC5: GS | AD5: GS | AE5: GS | AF5: GS
A6: DR. AKANKSHA PURI | B6: GS | C6: GS | D6: GS | E6: GS | F6: O | G6: GS | H6: GS | I6: GS | J6: GS | K6: GS | L6: GS | M6: O | N6: GS | O6: O | P6: GS | Q6: GS | R6: GS | S6: GS | T6: O | U6: GS | V6: GS | W6: GS | X6: GS | Y6: GS | Z6: GS | AA6: O | AB6: GS | AC6: GS | AD6: GS | AE6: GS | AF6: GS
A7: DR. SANJANA DEBNATH | B7: GS | C7: GS | D7: GS | E7: GS | F7: O | G7: GS | H7: GS | I7: GS | J7: GS | K7: GS | L7: GS | M7: O | N7: GS | O7: O | P7: GS | Q7: GS | R7: GS | S7: GS | T7: O | U7: GS | V7: GS | W7: GS | X7: GS | Y7: GS | Z7: GS | AA7: O | AB7: GS | AC7: GS | AD7: GS | AE7: GS | AF7: GS
A8: DR. RAHUL SINGH | B8: GS | C8: GS | D8: GS | E8: GS | F8: O | G8: GS | H8: GS | I8: GS | J8: GS | K8: GS | L8: GS | M8: O | N8: GS | O8: O | P8: GS | Q8: GS | R8: GS | S8: GS | T8: O | U8: GS | V8: GS | W8: GS | X8: GS | Y8: GS | Z8: GS | AA8: O | AB8: GS | AC8: GS | AD8: GS | AE8: GS | AF8: GS
A9: DR. SONIA SINGH | B9: GS | C9: GS | D9: GS | E9: GS | F9: O | G9: GS | H9: GS | I9: GS | J9: GS | K9: GS | L9: GS | M9: O | N9: GS | O9: O | P9: GS | Q9: GS | R9: GS | S9: GS | T9: O | U9: GS | V9: GS | W9: GS | X9: GS | Y9: GS | Z9: GS | AA9: O | AB9: GS | AC9: GS | AD9: GS | AE9: GS | AF9: GS
A10: DR. JAYA SINGH KHARSON | B10: GS | C10: GS | D10: GS | E10: GS | F10: O | G10: GS | H10: GS | I10: GS | J10: GS | K10: GS | L10: GS | M10: O | N10: GS | O10: O | P10: GS | Q10: GS | R10: GS | S10: GS | T10: O | U10: GS | V10: GS | W10: GS | X10: GS | Y10: GS | Z10: GS | AA10: O | AB10: GS | AC10: GS | AD10: GS | AE10: GS | AF10: GS
A11: DR. RAMPUKAR PATAR | B11: GS | C11: GS | D11: GS | E11: GS | F11: O | G11: GS | H11: GS | I11: GS | J11: GS | K11: GS | L11: GS | M11: O | N11: GS | O11: O | P11: GS | Q11: GS | R11: GS | S11: GS | T11: O | U11: GS | V11: GS | W11: GS | X11: GS | Y11: GS | Z11: GS | AA11: O | AB11: GS | AC11: GS | AD11: GS | AE11: GS | AF11: GS
A12: DR. ABHISHEK SHARMA | B12: M | C12: M | D12: M | E12: M | F12: O | G12: M | H12: E | I12: E | J12: E | K12: M | L12: M | M12: O | N12: M | O12: O | P12: E | Q12: M | R12: M | S12: M | T12: O | U12: E | V12: E | W12: E | X12: N | Y12: N | Z12: N | AA12: O | AB12: E | AC12: E | AD12: E | AE12: M | AF12: M
A13: DR. VINITA MAYANK GUPTA | B13: N | C13: N | D13: M | E13: M | F13: M | G13: O | H13: E | I13: E | J13: E | K13: N | L13: N | M13: N | N13: O | O13: O | P13: E | Q13: E | R13: M | S13: M | T13: M | U13: O | V13: N | W13: N | X13: N | Y13: M | Z13: M | AA13: O | AB13: O | AC13: E | AD13: E | AE13: E | AF13: N
... A40: MS. LATA CHOUHAN | B40: E | C40: E | D40: O | E40: E | F40: E | G40: E | H40: E | I40: E | J40: E | K40: O | L40: E | M40: E | N40: E | O40: O | P40: E | Q40: E | R40: E | S40: O | T40: E | U40: E | V40: E | W40: E | X40: E | Y40: E | Z40: O | AA40: O | AB40: E | AC40: E | AD40: E | AE40: E | AF40: E
A41: MR. GOUTAM YADAV | B41: M | C41: M | D41: M | E41: M | F41: M | G41: M | H41: O | I41: M | J41: M | K41: M | L41: M | M41: M | N41: M | O41: O | P41: M | Q41: M | R41: M | S41: M | T41: M | U41: M | V41: O | W41: M | X41: M | Y41: M | Z41: M | AA41: O | AB41: M | AC41: O | AD41: M | AE41: M
A42: MS. VANDANA SIHANI | B42: M | C42: M | D42: M | E42: M | F42: M | G42: M | H42: O | I42: M | J42: M | K42: M | L42: M | M42: M | N42: M | O42: O | P42: M | Q42: M | R42: M | S42: M | T42: M | U42: M | V42: O | W42: M | X42: M | Y42: M | Z42: M | AA42: O | AB42: M | AC42: O | AD42: M | AE42: M
A43: MR. PITAMBER SIDAR | B43: M | C43: M | D43: M | E43: M | F43: M | G43: M | H43: O | I43: M | J43: M | K43: M | L43: M | M43: M | N43: M | O43: O | P43: M | Q43: M | R43: M | S43: M | T43: M | U43: M | V43: O | W43: M | X43: M | Y43: M | Z43: M | AA43: O | AB43: M | AC43: O | AD43: M | AE43: M
A44: MR. NAPEEL SIDAR | B44: M | C44: M | D44: M | E44: M | F44: M | G44: M | H44: O | I44: M | J44: M | K44: M | L44: M | M44: M | N44: M | O44: O | P44: M | Q44: M | R44: M | S44: M | T44: M | U44: M | V44: O | W44: M | X44: M | Y44: M | Z44: M | AA44: O | AB44: M | AC44: O | AD44: M | AE44: M
A45: MR. SURAJ JANGDE | B45: E | C45: E | D45: M | E45: O | F45: M | G45: E | H45: E | I45: E | J45: E | K45: M | L45: O | M45: M | N45: E | O45: O | P45: E | Q45: M | R45: M | S45: O | T45: M | U45: E | V45: E | W45: E | X45: E | Y45: M | Z45: O | AA45: O | AB45: M | AC45: M | AD45: M | AE45: E | AF45: E
A46: MR. UMESH GUPTA | B46: M | C46: M | D46: M | E46: M | F46: M | G46: E | H46: O | I46: M | J46: M | K46: M | L46: E | M46: E | N46: M | O46: O | P46: E | Q46: E | R46: E | S46: M | T46: M | U46: M | V46: O | W46: M | X46: M | Y46: E | Z46: E | AA46: O | AB46: E | AC46: O | AD46: M | AE46: M | AF46: M
A47: MR. HARSH PRADHAN | B47: M | C47: M | D47: M | E47: E | F47: O | G47: M | H47: M | I47: E | J47: E | K47: E | L47: M | M47: O | N47: E | O47: O | P47: E | Q47: M | R47: M | S47: M | T47: O | U47: M | V47: E | W47: E | X47: E | Y47: E | Z47: M | AA47: O | AB47: M | AC47: E | AD47: E | AE47: M | AF47: M
A48: MR. NANDKISHOR | B48: M | C48: M | D48: M | E48: M | F48: M | G48: M | H48: O | I48: M | J48: M | K48: M | L48: M | M48: M | N48: M | O48: O | P48: M | Q48: M | R48: M | S48: M | T48: M | U48: M | V48: O | W48: M | X48: M | Y48: M | Z48: M | AA48: O | AB48: M | AC48: O | AD48: M | AE48: M | AF48: M
A49: MS. SONKUNWAR GHRITLAHRE | B49: M | C49: O | D49: M | E49: M | F49: M | G49: M | H49: M | I49: M | J49: O | K49: M | L49: M | M49: M | N49: M | O49: O | P49: M | Q49: O | R49: M | S49: M | T49: M | U49: M | V49: M | W49: M | X49: O | Y49: M | Z49: M | AA49: O | AB49: M | AC49: M | AD49: M | AE49: O | AF49: M
A50: MR. DEBANAND MOHANTA | B50: O | C50: M | D50: M | E50: M | F50: M | G50: M | H50: M | I50: O | J50: M | K50: M | L50: M | M50: M | N50: M | O50: O | P50: O | Q50: M | R50: M | S50: M | T50: M | U50: M | V50: M | W50: O | X50: M | Y50: M | Z50: M | AA50: O | AB50: M | AC50: M | AD50: O | AE50: M | AF50: M
A51: MS. MAMTA KANDEL | B51: M | C51: M | D51: O | E51: M | F51: M | G51: M | H51: M | I51: M | J51: M | K51: O | L51: M | M51: M | N51: M | O51: O | P51: M | Q51: M | R51: O | S51: M | T51: M | U51: M | V51: M | W51: M | X51: M | Y51: O | Z51: M | AA51: O | AB51: M | AC51: M | AD51: M | AE51: M | AF51: O
A52: MR. HARISH GUPTA | B52: M | C52: M | D52: M | E52: M | F52: O | G52: M | H52: M | I52: M | J52: M | K52: M | L52: M | M52: O | N52: M | O52: O | P52: M | Q52: M | R52: M | S52: M | T52: O | U52: M | V52: M | W52: M | X52: M | Y52: M | Z52: M | AA52: O | AB52: M | AC52: M | AD52: M | AE52: M | AF52: M
A53: MR. PRAVEEN BHOY | B53: M | C53: M | D53: M | E53: M | F53: M | G53: O | H53: M | I53: M | J53: M | K53: M | L53: M | M53: M | N53: O | O53: O | P53: M | Q53: M | R53: M | S53: M | T53: M | U53: O | V53: M | W53: M | X53: M | Y53: M | Z53: M | AA53: O | AB53: O | AC53: M | AD53: M | AE53: M | AF53: M
A54: MR. AKASH GUPTA | B54: M | C54: M | D54: M | E54: M | F54: M | G54: M | H54: O | I54: M | J54: M | K54: M | L54: M | M54: M | N54: M | O54: O | P54: M | Q54: M | R54: M | S54: M | T54: M | U54: M | V54: O | W54: M | X54: M | Y54: M | Z54: M | AA54: O | AB54: M | AC54: O | AD54: M | AE54: M | AF54: M
A55: MS. ABHA RANI | B55: O | C55: M | D55: M | E55: M | F55: M | G55: M | H55: M | I55: O | J55: M | K55: M | L55: M | M55: M | N55: M | O55: O | P55: O | Q55: M | R55: M | S55: M | T55: M | U55: M | V55: M | W55: O | X55: M | Y55: M | Z55: M | AA55: O | AB55: M | AC55: M | AD55: O | AE55: M | AF55: M
A56: MS. SUNITA SIDAR | B56: M | C56: M | D56: M | E56: O | F56: M | G56: M | H56: M | I56: M | J56: M | K56: M | L56: O | M56: M | N56: M | O56: O | P56: M | Q56: M | R56: M | S56: O | T56: M | U56: M | V56: M | W56: M | X56: M | Y56: M | Z56: O | AA56: O | AB56: M | AC56: M | AD56: M | AE56: M | AF56: M
... A83: MR. DEV KUMAR NAG | B83: GS | C83: GS | D83: GS | E83: GS | F83: O | G83: GS | H83: GS | I83: GS | J83: GS | K83: GS | L83: GS | M83: O | N83: GS | O83: O | P83: GS | Q83: GS | R83: GS | S83: GS | T83: O | U83: GS | V83: GS | W83: GS | X83: GS | Y83: GS | Z83: GS | AA83: O | AB83: GS | AC83: GS | AD83: GS | AE83: GS | AF83: GS

Sheet Main
A1: RAIGARH MEDICAL COLLEGE & HOSPITAL OF AYURVEDA
A3: Days | B3: =Entry!B2 -> 1 W | C3: =Entry!C2 -> 2 TH | D3: =Entry!D2 -> 3 F | E3: =Entry!E2 -> 4 ST | F3: =Entry!F2 -> 5 S | G3: =Entry!G2 -> M | H3: =Entry!H2 -> 7 T | I3: =Entry!I2 -> 8 W | ... AF3: =Entry!AF2 -> 31 F
A4: Department: Default
A5: =Entry!A3 -> DR. HIRAMAN DAS BANJARE | H5: Total Work Duration: | L5: =AH21 -> 8.7791667 | M5: Hrs. | N5: Total OT: | P5: 0 | Q5: Hrs | R5: Present: | T5: =AI7 -> 26 | U5: Absent: | W5: =AI8 -> 0 | X5: WeeklyOff: | Z5: =AI9 -> 5 | AA5: Holidays: 0 Leaves Taken:0
H6: Late By Hrs: | K6: =AH20 -> 0.086805556 | L6: Late By Days: | N6: 0
A7: Status | B7: =IF(B14="M","P",IF(B14="E","P",IF(B14="N","P",IF(B14="GS","P",IF(B14="O","O","A"))))) -> P | C7: =IF(C14="M","P",IF(C14="E","P",IF(C14="N","P",IF(C14="GS","P",IF(C14="O","O","A"))))) -> P | D7: =IF(D14="M","P",IF(D14="E","P",IF(D14="N","P",IF(D14="GS","P",IF(D14="O","O","A"))))) -> P | E7: =IF(E14="M","P",IF(E14="E","P",IF(E14="N","P",IF(E14="GS","P",IF(E14="O","O","A"))))) -> P | F7: =IF(F14="M","P",IF(F14="E","P",IF(F14="N","P",IF(F14="GS","P",IF(F14="O","O","A"))))) -> O | G7: =IF(G14="M","P",IF(G14="E","P",IF(G14="N","P",IF(G14="GS","P",IF(G14="O","O","A"))))) -> P | H7: =IF(H14="M","P",IF(H14="E","P",IF(H14="N","P",IF(H14="GS","P",IF(H14="O","O","A"))))) -> P | I7: =IF(I14="M","P",IF(I14="E","P",IF(I14="N","P",IF(I14="GS","P",IF(I14="O","O","A"))))) -> P | ... AF7: =IF(AF14="M","P",IF(AF14="E","P",IF(AF14="N","P",IF(AF14="GS","P",IF(AF14="O","O","A"))))) -> P | AH7: present | AI7: =COUNTIF(B7:AF7,"P") -> 26
A8: InTime | B8: =IF(B14="M",TEXT(7.8/24+RAND()*(8.3/24-7.8/24),"HH:MM"),(IF(B14="E",TEXT(13.8/24+RAND()*(14.3/24-13.8/24),"HH:MM"),IF(B14="GS",TEXT(8.8/24+RAND()*(9.3/24-8.8/24),"HH:MM"),IF(B14="N",TEXT(19.8/24+RAND()*(20.3/24-19.8/24),"HH:MM"),""))))) -> 09:06 | C8: =IF(C14="M",TEXT(7.8/24+RAND()*(8.3/24-7.8/24),"HH:MM"),(IF(C14="E",TEXT(13.8/24+RAND()*(14.3/24-13.8/24),"HH:MM"),IF(C14="GS",TEXT(8.8/24+RAND()*(9.3/24-8.8/24),"HH:MM"),IF(C14="N",TEXT(19.8/24+RAND()*(20.3/24-19.8/24),"HH:MM"),""))))) -> 09:05 | D8: =IF(D14="M",TEXT(7.8/24+RAND()*(8.3/24-7.8/24),"HH:MM"),(IF(D14="E",TEXT(13.8/24+RAND()*(14.3/24-13.8/24),"HH:MM"),IF(D14="GS",TEXT(8.8/24+RAND()*(9.3/24-8.8/24),"HH:MM"),IF(D14="N",TEXT(19.8/24+RAND()*(20.3/24-19.8/24),"HH:MM"),""))))) -> 09:10 | E8: =IF(E14="M",TEXT(7.8/24+RAND()*(8.3/24-7.8/24),"HH:MM"),(IF(E14="E",TEXT(13.8/24+RAND()*(14.3/24-13.8/24),"HH:MM"),IF(E14="GS",TEXT(8.8/24+RAND()*(9.3/24-8.8/24),"HH:MM"),IF(E14="N",TEXT(19.8/24+RAND()*(20.3/24-19.8/24),"HH:MM"),""))))) -> 09:08 | F8: =IF(F14="M",TEXT(7.8/24+RAND()*(8.3/24-7.8/24),"HH:MM"),(IF(F14="E",TEXT(13.8/24+RAND()*(14.3/24-13.8/24),"HH:MM"),IF(F14="GS",TEXT(8.8/24+RAND()*(9.3/24-8.8/24),"HH:MM"),IF(F14="N",TEXT(19.8/24+RAND()*(20.3/24-19.8/24),"HH:MM"),""))))) | G8: =IF(G14="M",TEXT(7.8/24+RAND()*(8.3/24-7.8/24),"HH:MM"),(IF(G14="E",TEXT(13.8/24+RAND()*(14.3/24-13.8/24),"HH:MM"),IF(G14="GS",TEXT(8.8/24+RAND()*(9.3/24-8.8/24),"HH:MM"),IF(G14="N",TEXT(19.8/24+RAND()*(20.3/24-19.8/24),"HH:MM"),""))))) -> 09:17 | H8: =IF(H14="M",TEXT(7.8/24+RAND()*(8.3/24-7.8/24),"HH:MM"),(IF(H14="E",TEXT(13.8/24+RAND()*(14.3/24-13.8/24),"HH:MM"),IF(H14="GS",TEXT(8.8/24+RAND()*(9.3/24-8.8/24),"HH:MM"),IF(H14="N",TEXT(19.8/24+RAND()*(20.3/24-19.8/24),"HH:MM"),""))))) -> 08:48 | I8: =IF(I14="M",TEXT(7.8/24+RAND()*(8.3/24-7.8/24),"HH:MM"),(IF(I14="E",TEXT(13.8/24+RAND()*(14.3/24-13.8/24),"HH:MM"),IF(I14="GS",TEXT(8.8/24+RAND()*(9.3/24-8.8/24),"HH:MM"),IF(I14="N",TEXT(19.8/24+RAND()*(20.3/24-19.8/24),"HH:MM"),""))))) -> 09:00 | ... AF8: =IF(AF14="M",TEXT(7.8/24+RAND()*(8.3/24-7.8/24),"HH:MM"),(IF(AF14="E",TEXT(13.8/24+RAND()*(14.3/24-13.8/24),"HH:MM"),IF(AF14="GS",TEXT(8.8/24+RAND()*(9.3/24-8.8/24),"HH:MM"),IF(AF14="N",TEXT(19.8/24+RAND()*(20.3/24-19.8/24),"HH:MM"),""))))) -> 08:51 | AH8: absent | AI8: =COUNTIF(B7:AF7,"A") -> 0
A9: OutTime | B9: =IF(B14="M",TEXT(17/24+RAND()*(17.3/24-17/24),"HH:MM"),(IF(B14="E",TEXT(20/24+RAND()*(20.3/24-20/24),"HH:MM"),IF(B14="N",TEXT(8/24+RAND()*(8.3/24-8/24),"HH:MM"),IF(B14="GS",TEXT(17/24+RAND()*(17.3/24-17/24),"HH:MM"),""))))) -> 17:11 | C9: =IF(C14="M",TEXT(17/24+RAND()*(17.3/24-17/24),"HH:MM"),(IF(C14="E",TEXT(20/24+RAND()*(20.3/24-20/24),"HH:MM"),IF(C14="N",TEXT(8/24+RAND()*(8.3/24-8/24),"HH:MM"),IF(C14="GS",TEXT(17/24+RAND()*(17.3/24-17/24),"HH:MM"),""))))) -> 17:00 | D9: =IF(D14="M",TEXT(17/24+RAND()*(17.3/24-17/24),"HH:MM"),(IF(D14="E",TEXT(20/24+RAND()*(20.3/24-20/24),"HH:MM"),IF(D14="N",TEXT(8/24+RAND()*(8.3/24-8/24),"HH:MM"),IF(D14="GS",TEXT(17/24+RAND()*(17.3/24-17/24),"HH:MM"),""))))) -> 17:12 | E9: =IF(E14="M",TEXT(17/24+RAND()*(17.3/24-17/24),"HH:MM"),(IF(E14="E",TEXT(20/24+RAND()*(20.3/24-20/24),"HH:MM"),IF(E14="N",TEXT(8/24+RAND()*(8.3/24-8/24),"HH:MM"),IF(E14="GS",TEXT(17/24+RAND()*(17.3/24-17/24),"HH:MM"),""))))) -> 17:05 | F9: =IF(F14="M",TEXT(17/24+RAND()*(17.3/24-17/24),"HH:MM"),(IF(F14="E",TEXT(20/24+RAND()*(20.3/24-20/24),"HH:MM"),IF(F14="N",TEXT(8/24+RAND()*(8.3/24-8/24),"HH:MM"),IF(F14="GS",TEXT(17/24+RAND()*(17.3/24-17/24),"HH:MM"),""))))) | G9: =IF(G14="M",TEXT(17/24+RAND()*(17.3/24-17/24),"HH:MM"),(IF(G14="E",TEXT(20/24+RAND()*(20.3/24-20/24),"HH:MM"),IF(G14="N",TEXT(8/24+RAND()*(8.3/24-8/24),"HH:MM"),IF(G14="GS",TEXT(17/24+RAND()*(17.3/24-17/24),"HH:MM"),""))))) -> 17:08 | H9: =IF(H14="M",TEXT(17/24+RAND()*(17.3/24-17/24),"HH:MM"),(IF(H14="E",TEXT(20/24+RAND()*(20.3/24-20/24),"HH:MM"),IF(H14="N",TEXT(8/24+RAND()*(8.3/24-8/24),"HH:MM"),IF(H14="GS",TEXT(17/24+RAND()*(17.3/24-17/24),"HH:MM"),""))))) -> 17:02 | I9: =IF(I14="M",TEXT(17/24+RAND()*(17.3/24-17/24),"HH:MM"),(IF(I14="E",TEXT(20/24+RAND()*(20.3/24-20/24),"HH:MM"),IF(I14="N",TEXT(8/24+RAND()*(8.3/24-8/24),"HH:MM"),IF(I14="GS",TEXT(17/24+RAND()*(17.3/24-17/24),"HH:MM"),""))))) -> 17:16 | ... AF9: =IF(AF14="M",TEXT(17/24+RAND()*(17.3/24-17/24),"HH:MM"),(IF(AF14="E",TEXT(20/24+RAND()*(20.3/24-20/24),"HH:MM"),IF(AF14="N",TEXT(8/24+RAND()*(8.3/24-8/24),"HH:MM"),IF(AF14="GS",TEXT(17/24+RAND()*(17.3/24-17/24),"HH:MM"),""))))) -> 17:12 | AH9: WeekOFF | AI9: =COUNTIF(B14:AF14,"O") -> 5
A10: Duration | B10: =IF(B14="M",TEXT(B9-B8,"H:MM"),IF(B14="E",TEXT(B9-B8,"H:MM"),IF(B14="N",TEXT(B9+24-B8+30,"H:MM"),IF(B14="GS",TEXT(B9-B8,"H:MM"),"")))) -> 8:05 | C10: =IF(C14="M",TEXT(C9-C8,"H:MM"),IF(C14="E",TEXT(C9-C8,"H:MM"),IF(C14="N",TEXT(C9+24-C8+30,"H:MM"),IF(C14="GS",TEXT(C9-C8,"H:MM"),"")))) -> 7:55 | D10: =IF(D14="M",TEXT(D9-D8,"H:MM"),IF(D14="E",TEXT(D9-D8,"H:MM"),IF(D14="N",TEXT(D9+24-D8+30,"H:MM"),IF(D14="GS",TEXT(D9-D8,"H:MM"),"")))) -> 8:02 | E10: =IF(E14="M",TEXT(E9-E8,"H:MM"),IF(E14="E",TEXT(E9-E8,"H:MM"),IF(E14="N",TEXT(E9+24-E8+30,"H:MM"),IF(E14="GS",TEXT(E9-E8,"H:MM"),"")))) -> 7:57 | F10: =IF(F14="M",TEXT(F9-F8,"H:MM"),IF(F14="E",TEXT(F9-F8,"H:MM"),IF(F14="N",TEXT(F9+24-F8+30,"H:MM"),IF(F14="GS",TEXT(F9-F8,"H:MM"),"")))) | G10: =IF(G14="M",TEXT(G9-G8,"H:MM"),IF(G14="E",TEXT(G9-G8,"H:MM"),IF(G14="N",TEXT(G9+24-G8+30,"H:MM"),IF(G14="GS",TEXT(G9-G8,"H:MM"),"")))) -> 7:51 | H10: =IF(H14="M",TEXT(H9-H8,"H:MM"),IF(H14="E",TEXT(H9-H8,"H:MM"),IF(H14="N",TEXT(H9+24-H8+30,"H:MM"),IF(H14="GS",TEXT(H9-H8,"H:MM"),"")))) -> 8:14 | I10: =IF(I14="M",TEXT(I9-I8,"H:MM"),IF(I14="E",TEXT(I9-I8,"H:MM"),IF(I14="N",TEXT(I9+24-I8+30,"H:MM"),IF(I14="GS",TEXT(I9-I8,"H:MM"),"")))) -> 8:16 | ... AF10: =IF(AF14="M",TEXT(AF9-AF8,"H:MM"),IF(AF14="E",TEXT(AF9-AF8,"H:MM"),IF(AF14="N",TEXT(AF9+24-AF8+30,"H:MM"),IF(AF14="GS",TEXT(AF9-AF8,"H:MM"),"")))) -> 8:21 | AH10: late by days | AI10: =COUNTIF(B11:AF11,(B11:AF11)>0) -> 0
A11: Late By | B11: =IF(AND(B14="GS",B16>$B$19),TEXT(B16-$B$19,"HH:MM"),IF(AND(B14="M",B16>$B$15),TEXT(B16-$B$15,"HH:MM"),IF(AND(B14="E",B16>$B$17),TEXT(B16-$B$17,"HH:MM"),IF(AND(B14="N",B16>$B$18),TEXT(B16-$B$18,"HH:MM"),IF(OR(B14="O",B14="A"),"",0))))) -> 00:06 | C11: =IF(AND(C14="GS",C16>$B$19),TEXT(C16-$B$19,"HH:MM"),IF(AND(C14="M",C16>$B$15),TEXT(C16-$B$15,"HH:MM"),IF(AND(C14="E",C16>$B$17),TEXT(C16-$B$17,"HH:MM"),IF(AND(C14="N",C16>$B$18),TEXT(C16-$B$18,"HH:MM"),IF(OR(C14="O",C14="A"),"",0))))) -> 00:05 | D11: =IF(AND(D14="GS",D16>$B$19),TEXT(D16-$B$19,"HH:MM"),IF(AND(D14="M",D16>$B$15),TEXT(D16-$B$15,"HH:MM"),IF(AND(D14="E",D16>$B$17),TEXT(D16-$B$17,"HH:MM"),IF(AND(D14="N",D16>$B$18),TEXT(D16-$B$18,"HH:MM"),IF(OR(D14="O",D14="A"),"",0))))) -> 00:10 | E11: =IF(AND(E14="GS",E16>$B$19),TEXT(E16-$B$19,"HH:MM"),IF(AND(E14="M",E16>$B$15),TEXT(E16-$B$15,"HH:MM"),IF(AND(E14="E",E16>$B$17),TEXT(E16-$B$17,"HH:MM"),IF(AND(E14="N",E16>$B$18),TEXT(E16-$B$18,"HH:MM"),IF(OR(E14="O",E14="A"),"",0))))) -> 00:08 | F11: =IF(AND(F14="GS",F16>$B$19),TEXT(F16-$B$19,"HH:MM"),IF(AND(F14="M",F16>$B$15),TEXT(F16-$B$15,"HH:MM"),IF(AND(F14="E",F16>$B$17),TEXT(F16-$B$17,"HH:MM"),IF(AND(F14="N",F16>$B$18),TEXT(F16-$B$18,"HH:MM"),IF(OR(F14="O",F14="A"),"",0))))) | G11: =IF(AND(G14="GS",G16>$B$19),TEXT(G16-$B$19,"HH:MM"),IF(AND(G14="M",G16>$B$15),TEXT(G16-$B$15,"HH:MM"),IF(AND(G14="E",G16>$B$17),TEXT(G16-$B$17,"HH:MM"),IF(AND(G14="N",G16>$B$18),TEXT(G16-$B$18,"HH:MM"),IF(OR(G14="O",G14="A"),"",0))))) -> 00:17 | H11: =IF(AND(H14="GS",H16>$B$19),TEXT(H16-$B$19,"HH:MM"),IF(AND(H14="M",H16>$B$15),TEXT(H16-$B$15,"HH:MM"),IF(AND(H14="E",H16>$B$17),TEXT(H16-$B$17,"HH:MM"),IF(AND(H14="N",H16>$B$18),TEXT(H16-$B$18,"HH:MM"),IF(OR(H14="O",H14="A"),"",0))))) -> 0 | I11: =IF(AND(I14="GS",I16>$B$19),TEXT(I16-$B$19,"HH:MM"),IF(AND(I14="M",I16>$B$15),TEXT(I16-$B$15,"HH:MM"),IF(AND(I14="E",I16>$B$17),TEXT(I16-$B$17,"HH:MM"),IF(AND(I14="N",I16>$B$18),TEXT(I16-$B$18,"HH:MM"),IF(OR(I14="O",I14="A"),"",0))))) -> 0 | ... AF11: =IF(AND(AF14="GS",AF16>$B$19),TEXT(AF16-$B$19,"HH:MM"),IF(AND(AF14="M",AF16>$B$15),TEXT(AF16-$B$15,"HH:MM"),IF(AND(AF14="E",AF16>$B$17),TEXT(AF16-$B$17,"HH:MM"),IF(AND(AF14="N",AF16>$B$18),TEXT(AF16-$B$18,"HH:MM"),IF(OR(AF14="O",AF14="A"),"",0))))) -> 0
A12: Early By
A13: OT
A14: Shift | B14: =Entry!B3 -> GS | C14: =Entry!C3 -> GS | D14: =Entry!D3 -> GS | E14: =Entry!E3 -> GS | F14: =Entry!F3 -> O | G14: =Entry!G3 -> GS | H14: =Entry!H3 -> GS | I14: =Entry!I3 -> GS | ... AF14: =Entry!AF3 -> GS
A15: M | B15: 0.33333333
B16: =IF(OR(B14="O",B14="A"),"O ",VALUE(B8)) -> 0.37916667 | C16: =IF(OR(C14="O",C14="A"),"O ",VALUE(C8)) -> 0.37847222 | D16: =IF(OR(D14="O",D14="A"),"O ",VALUE(D8)) -> 0.38194444 | E16: =IF(OR(E14="O",E14="A"),"O ",VALUE(E8)) -> 0.38055556 | F16: =IF(OR(F14="O",F14="A"),"O ",VALUE(F8)) -> O | G16: =IF(OR(G14="O",G14="A"),"O ",VALUE(G8)) -> 0.38680556 | H16: =IF(OR(H14="O",H14="A"),"O ",VALUE(H8)) -> 0.36666667 | I16: =IF(OR(I14="O",I14="A"),"O ",VALUE(I8)) -> 0.375 | ... AF16: =IF(OR(AF14="O",AF14="A"),"O ",VALUE(AF8)) -> 0.36875
A17: E | B17: 0.58333333
A18: N | B18: 0.83333333
A19: GS | B19: 0.375
A20: Late | B20: =IF(OR(B14="O",B14="A"),0,VALUE(B11)) -> 0.0041666667 | C20: =IF(OR(C14="O",C14="A"),0,VALUE(C11)) -> 0.0034722222 | D20: =IF(OR(D14="O",D14="A"),0,VALUE(D11)) -> 0.0069444444 | E20: =IF(OR(E14="O",E14="A"),0,VALUE(E11)) -> 0.0055555556 | F20: =IF(OR(F14="O",F14="A"),0,VALUE(F11)) -> 0 | G20: =IF(OR(G14="O",G14="A"),0,VALUE(G11)) -> 0.011805556 | H20: =IF(OR(H14="O",H14="A"),0,VALUE(H11)) -> 0 | I20: =IF(OR(I14="O",I14="A"),0,VALUE(I11)) -> 0 | ... AF20: =IF(OR(AF14="O",AF14="A"),0,VALUE(AF11)) -> 0 | AH20: =SUM(B20:AF20) -> 0.086805556
B21: =IF(OR(B14="O",B14="A"),0,VALUE(B10)) -> 0.33680556 | C21: =IF(OR(C14="O",C14="A"),0,VALUE(C10)) -> 0.32986111 | D21: =IF(OR(D14="O",D14="A"),0,VALUE(D10)) -> 0.33472222 | E21: =IF(OR(E14="O",E14="A"),0,VALUE(E10)) -> 0.33125 | F21: =IF(OR(F14="O",F14="A"),0,VALUE(F10)) -> 0 | G21: =IF(OR(G14="O",G14="A"),0,VALUE(G10)) -> 0.32708333 | H21: =IF(OR(H14="O",H14="A"),0,VALUE(H10)) -> 0.34305556 | I21: =IF(OR(I14="O",I14="A"),0,VALUE(I10)) -> 0.34444444 | ... AF21: =IF(OR(AF14="O",AF14="A"),0,VALUE(AF10)) -> 0.34791667 | AH21: =SUM(B21:AF21) -> 8.7791667
A24: =Entry!A4 -> DR. ASHWANI PRADHAN | H24: Total Work Duration: | L24: =AH40 -> 8.7451389 | M24: Hrs. | N24: Total OT: | P24: 0 | Q24: Hrs | R24: Present: | T24: =AI26 -> 26 | U24: Absent: | W24: =AI27 -> 0 | X24: WeeklyOff: | Z24: =AI28 -> 5 | AA24: Holidays: 0 Leaves Taken:0
H25: Late By Hrs: | K25: =AH39 -> 0.12777778 | L25: Late By Days: | N25: 0
A26: Status | B26: =IF(B33="M","P",IF(B33="E","P",IF(B33="N","P",IF(B33="GS","P",IF(B33="O","O","A"))))) -> P | C26: =IF(C33="M","P",IF(C33="E","P",IF(C33="N","P",IF(C33="GS","P",IF(C33="O","O","A"))))) -> P | D26: =IF(D33="M","P",IF(D33="E","P",IF(D33="N","P",IF(D33="GS","P",IF(D33="O","O","A"))))) -> P | E26: =IF(E33="M","P",IF(E33="E","P",IF(E33="N","P",IF(E33="GS","P",IF(E33="O","O","A"))))) -> P | F26: =IF(F33="M","P",IF(F33="E","P",IF(F33="N","P",IF(F33="GS","P",IF(F33="O","O","A"))))) -> O | G26: =IF(G33="M","P",IF(G33="E","P",IF(G33="N","P",IF(G33="GS","P",IF(G33="O","O","A"))))) -> P | H26: =IF(H33="M","P",IF(H33="E","P",IF(H33="N","P",IF(H33="GS","P",IF(H33="O","O","A"))))) -> P | I26: =IF(I33="M","P",IF(I33="E","P",IF(I33="N","P",IF(I33="GS","P",IF(I33="O","O","A"))))) -> P | ... AF26: =IF(AF33="M","P",IF(AF33="E","P",IF(AF33="N","P",IF(AF33="GS","P",IF(AF33="O","O","A"))))) -> P | AH26: present | AI26: =COUNTIF(B26:AF26,"P") -> 26
A27: InTime | B27: =IF(B33="M",TEXT(7.8/24+RAND()*(8.3/24-7.8/24),"HH:MM"),(IF(B33="E",TEXT(13.8/24+RAND()*(14.3/24-13.8/24),"HH:MM"),IF(B33="GS",TEXT(8.8/24+RAND()*(9.3/24-8.8/24),"HH:MM"),IF(B33="N",TEXT(19.8/24+RAND()*(20.3/24-19.8/24),"HH:MM"),""))))) -> 08:52 | C27: =IF(C33="M",TEXT(7.8/24+RAND()*(8.3/24-7.8/24),"HH:MM"),(IF(C33="E",TEXT(13.8/24+RAND()*(14.3/24-13.8/24),"HH:MM"),IF(C33="GS",TEXT(8.8/24+RAND()*(9.3/24-8.8/24),"HH:MM"),IF(C33="N",TEXT(19.8/24+RAND()*(20.3/24-19.8/24),"HH:MM"),""))))) -> 09:15 | D27: =IF(D33="M",TEXT(7.8/24+RAND()*(8.3/24-7.8/24),"HH:MM"),(IF(D33="E",TEXT(13.8/24+RAND()*(14.3/24-13.8/24),"HH:MM"),IF(D33="GS",TEXT(8.8/24+RAND()*(9.3/24-8.8/24),"HH:MM"),IF(D33="N",TEXT(19.8/24+RAND()*(20.3/24-19.8/24),"HH:MM"),""))))) -> 09:07 | E27: =IF(E33="M",TEXT(7.8/24+RAND()*(8.3/24-7.8/24),"HH:MM"),(IF(E33="E",TEXT(13.8/24+RAND()*(14.3/24-13.8/24),"HH:MM"),IF(E33="GS",TEXT(8.8/24+RAND()*(9.3/24-8.8/24),"HH:MM"),IF(E33="N",TEXT(19.8/24+RAND()*(20.3/24-19.8/24),"HH:MM"),""))))) -> 08:48 | F27: =IF(F33="M",TEXT(7.8/24+RAND()*(8.3/24-7.8/24),"HH:MM"),(IF(F33="E",TEXT(13.8/24+RAND()*(14.3/24-13.8/24),"HH:MM"),IF(F33="GS",TEXT(8.8/24+RAND()*(9.3/24-8.8/24),"HH:MM"),IF(F33="N",TEXT(19.8/24+RAND()*(20.3/24-19.8/24),"HH:MM"),""))))) | G27: =IF(G33="M",TEXT(7.8/24+RAND()*(8.3/24-7.8/24),"HH:MM"),(IF(G33="E",TEXT(13.8/24+RAND()*(14.3/24-13.8/24),"HH:MM"),IF(G33="GS",TEXT(8.8/24+RAND()*(9.3/24-8.8/24),"HH:MM"),IF(G33="N",TEXT(19.8/24+RAND()*(20.3/24-19.8/24),"HH:MM"),""))))) -> 09:16 | H27: =IF(H33="M",TEXT(7.8/24+RAND()*(8.3/24-7.8/24),"HH:MM"),(IF(H33="E",TEXT(13.8/24+RAND()*(14.3/24-13.8/24),"HH:MM"),IF(H33="GS",TEXT(8.8/24+RAND()*(9.3/24-8.8/24),"HH:MM"),IF(H33="N",TEXT(19.8/24+RAND()*(20.3/24-19.8/24),"HH:MM"),""))))) -> 08:51 | I27: =IF(I33="M",TEXT(7.8/24+RAND()*(8.3/24-7.8/24),"HH:MM"),(IF(I33="E",TEXT(13.8/24+RAND()*(14.3/24-13.8/24),"HH:MM"),IF(I33="GS",TEXT(8.8/24+RAND()*(9.3/24-8.8/24),"HH:MM"),IF(I33="N",TEXT(19.8/24+RAND()*(20.3/24-19.8/24),"HH:MM"),""))))) -> 09:16 | ... AF27: =IF(AF33="M",TEXT(7.8/24+RAND()*(8.3/24-7.8/24),"HH:MM"),(IF(AF33="E",TEXT(13.8/24+RAND()*(14.3/24-13.8/24),"HH:MM"),IF(AF33="GS",TEXT(8.8/24+RAND()*(9.3/24-8.8/24),"HH:MM"),IF(AF33="N",TEXT(19.8/24+RAND()*(20.3/24-19.8/24),"HH:MM"),""))))) -> 09:09 | AH27: absent | AI27: =COUNTIF(B26:AF26,"A") -> 0
A28: OutTime | B28: =IF(B33="M",TEXT(17/24+RAND()*(17.3/24-17/24),"HH:MM"),(IF(B33="E",TEXT(20/24+RAND()*(20.3/24-20/24),"HH:MM"),IF(B33="N",TEXT(8/24+RAND()*(8.3/24-8/24),"HH:MM"),IF(B33="GS",TEXT(17/24+RAND()*(17.3/24-17/24),"HH:MM"),""))))) -> 17:12 | C28: =IF(C33="M",TEXT(17/24+RAND()*(17.3/24-17/24),"HH:MM"),(IF(C33="E",TEXT(20/24+RAND()*(20.3/24-20/24),"HH:MM"),IF(C33="N",TEXT(8/24+RAND()*(8.3/24-8/24),"HH:MM"),IF(C33="GS",TEXT(17/24+RAND()*(17.3/24-17/24),"HH:MM"),""))))) -> 17:03 | D28: =IF(D33="M",TEXT(17/24+RAND()*(17.3/24-17/24),"HH:MM"),(IF(D33="E",TEXT(20/24+RAND()*(20.3/24-20/24),"HH:MM"),IF(D33="N",TEXT(8/24+RAND()*(8.3/24-8/24),"HH:MM"),IF(D33="GS",TEXT(17/24+RAND()*(17.3/24-17/24),"HH:MM"),""))))) -> 17:17 | E28: =IF(E33="M",TEXT(17/24+RAND()*(17.3/24-17/24),"HH:MM"),(IF(E33="E",TEXT(20/24+RAND()*(20.3/24-20/24),"HH:MM"),IF(E33="N",TEXT(8/24+RAND()*(8.3/24-8/24),"HH:MM"),IF(E33="GS",TEXT(17/24+RAND()*(17.3/24-17/24),"HH:MM"),""))))) -> 17:12 | F28: =IF(F33="M",TEXT(17/24+RAND()*(17.3/24-17/24),"HH:MM"),(IF(F33="E",TEXT(20/24+RAND()*(20.3/24-20/24),"HH:MM"),IF(F33="N",TEXT(8/24+RAND()*(8.3/24-8/24),"HH:MM"),IF(F33="GS",TEXT(17/24+RAND()*(17.3/24-17/24),"HH:MM"),""))))) | G28: =IF(G33="M",TEXT(17/24+RAND()*(17.3/24-17/24),"HH:MM"),(IF(G33="E",TEXT(20/24+RAND()*(20.3/24-20/24),"HH:MM"),IF(G33="N",TEXT(8/24+RAND()*(8.3/24-8/24),"HH:MM"),IF(G33="GS",TEXT(17/24+RAND()*(17.3/24-17/24),"HH:MM"),""))))) -> 17:04 | H28: =IF(H33="M",TEXT(17/24+RAND()*(17.3/24-17/24),"HH:MM"),(IF(H33="E",TEXT(20/24+RAND()*(20.3/24-20/24),"HH:MM"),IF(H33="N",TEXT(8/24+RAND()*(8.3/24-8/24),"HH:MM"),IF(H33="GS",TEXT(17/24+RAND()*(17.3/24-17/24),"HH:MM"),""))))) -> 17:10 | I28: =IF(I33="M",TEXT(17/24+RAND()*(17.3/24-17/24),"HH:MM"),(IF(I33="E",TEXT(20/24+RAND()*(20.3/24-20/24),"HH:MM"),IF(I33="N",TEXT(8/24+RAND()*(8.3/24-8/24),"HH:MM"),IF(I33="GS",TEXT(17/24+RAND()*(17.3/24-17/24),"HH:MM"),""))))) -> 17:08 | ... AF28: =IF(AF33="M",TEXT(17/24+RAND()*(17.3/24-17/24),"HH:MM"),(IF(AF33="E",TEXT(20/24+RAND()*(20.3/24-20/24),"HH:MM"),IF(AF33="N",TEXT(8/24+RAND()*(8.3/24-8/24),"HH:MM"),IF(AF33="GS",TEXT(17/24+RAND()*(17.3/24-17/24),"HH:MM"),""))))) -> 17:01 | AH28: WeekOFF | AI28: =COUNTIF(B33:AF33,"O") -> 5
A29: Duration | B29: =IF(B33="M",TEXT(B28-B27,"H:MM"),IF(B33="E",TEXT(B28-B27,"H:MM"),IF(B33="N",TEXT(B28+24-B27+30,"H:MM"),IF(B33="GS",TEXT(B28-B27,"H:MM"),"")))) -> 8:20 | C29: =IF(C33="M",TEXT(C28-C27,"H:MM"),IF(C33="E",TEXT(C28-C27,"H:MM"),IF(C33="N",TEXT(C28+24-C27+30,"H:MM"),IF(C33="GS",TEXT(C28-C27,"H:MM"),"")))) -> 7:48 | D29: =IF(D33="M",TEXT(D28-D27,"H:MM"),IF(D33="E",TEXT(D28-D27,"H:MM"),IF(D33="N",TEXT(D28+24-D27+30,"H:MM"),IF(D33="GS",TEXT(D28-D27,"H:MM"),"")))) -> 8:10 | E29: =IF(E33="M",TEXT(E28-E27,"H:MM"),IF(E33="E",TEXT(E28-E27,"H:MM"),IF(E33="N",TEXT(E28+24-E27+30,"H:MM"),IF(E33="GS",TEXT(E28-E27,"H:MM"),"")))) -> 8:24 | F29: =IF(F33="M",TEXT(F28-F27,"H:MM"),IF(F33="E",TEXT(F28-F27,"H:MM"),IF(F33="N",TEXT(F28+24-F27+30,"H:MM"),IF(F33="GS",TEXT(F28-F27,"H:MM"),"")))) | G29: =IF(G33="M",TEXT(G28-G27,"H:MM"),IF(G33="E",TEXT(G28-G27,"H:MM"),IF(G33="N",TEXT(G28+24-G27+30,"H:MM"),IF(G33="GS",TEXT(G28-G27,"H:MM"),"")))) -> 7:48 | H29: =IF(H33="M",TEXT(H28-H27,"H:MM"),IF(H33="E",TEXT(H28-H27,"H:MM"),IF(H33="N",TEXT(H28+24-H27+30,"H:MM"),IF(H33="GS",TEXT(H28-H27,"H:MM"),"")))) -> 8:19 | I29: =IF(I33="M",TEXT(I28-I27,"H:MM"),IF(I33="E",TEXT(I28-I27,"H:MM"),IF(I33="N",TEXT(I28+24-I27+30,"H:MM"),IF(I33="GS",TEXT(I28-I27,"H:MM"),"")))) -> 7:52 | ... AF29: =IF(AF33="M",TEXT(AF28-AF27,"H:MM"),IF(AF33="E",TEXT(AF28-AF27,"H:MM"),IF(AF33="N",TEXT(AF28+24-AF27+30,"H:MM"),IF(AF33="GS",TEXT(AF28-AF27,"H:MM"),"")))) -> 7:52 | AH29: late by days | AI29: =COUNTIF(B30:AF30,(B30:AF30)>0) -> 0
A30: Late By | B30: =IF(AND(B33="GS",B35>$B$19),TEXT(B35-$B$19,"HH:MM"),IF(AND(B33="M",B35>$B$15),TEXT(B35-$B$15,"HH:MM"),IF(AND(B33="E",B35>$B$17),TEXT(B35-$B$17,"HH:MM"),IF(AND(B33="N",B35>$B$18),TEXT(B35-$B$18,"HH:MM"),IF(OR(B33="O",B33="A"),"",0))))) -> 0 | C30: =IF(AND(C33="GS",C35>$B$19),TEXT(C35-$B$19,"HH:MM"),IF(AND(C33="M",C35>$B$15),TEXT(C35-$B$15,"HH:MM"),IF(AND(C33="E",C35>$B$17),TEXT(C35-$B$17,"HH:MM"),IF(AND(C33="N",C35>$B$18),TEXT(C35-$B$18,"HH:MM"),IF(OR(C33="O",C33="A"),"",0))))) -> 00:15 | D30: =IF(AND(D33="GS",D35>$B$19),TEXT(D35-$B$19,"HH:MM"),IF(AND(D33="M",D35>$B$15),TEXT(D35-$B$15,"HH:MM"),IF(AND(D33="E",D35>$B$17),TEXT(D35-$B$17,"HH:MM"),IF(AND(D33="N",D35>$B$18),TEXT(D35-$B$18,"HH:MM"),IF(OR(D33="O",D33="A"),"",0))))) -> 00:07 | E30: =IF(AND(E33="GS",E35>$B$19),TEXT(E35-$B$19,"HH:MM"),IF(AND(E33="M",E35>$B$15),TEXT(E35-$B$15,"HH:MM"),IF(AND(E33="E",E35>$B$17),TEXT(E35-$B$17,"HH:MM"),IF(AND(E33="N",E35>$B$18),TEXT(E35-$B$18,"HH:MM"),IF(OR(E33="O",E33="A"),"",0))))) -> 0 | F30: =IF(AND(F33="GS",F35>$B$19),TEXT(F35-$B$19,"HH:MM"),IF(AND(F33="M",F35>$B$15),TEXT(F35-$B$15,"HH:MM"),IF(AND(F33="E",F35>$B$17),TEXT(F35-$B$17,"HH:MM"),IF(AND(F33="N",F35>$B$18),TEXT(F35-$B$18,"HH:MM"),IF(OR(F33="O",F33="A"),"",0))))) | G30: =IF(AND(G33="GS",G35>$B$19),TEXT(G35-$B$19,"HH:MM"),IF(AND(G33="M",G35>$B$15),TEXT(G35-$B$15,"HH:MM"),IF(AND(G33="E",G35>$B$17),TEXT(G35-$B$17,"HH:MM"),IF(AND(G33="N",G35>$B$18),TEXT(G35-$B$18,"HH:MM"),IF(OR(G33="O",G33="A"),"",0))))) -> 00:16 | H30: =IF(AND(H33="GS",H35>$B$19),TEXT(H35-$B$19,"HH:MM"),IF(AND(H33="M",H35>$B$15),TEXT(H35-$B$15,"HH:MM"),IF(AND(H33="E",H35>$B$17),TEXT(H35-$B$17,"HH:MM"),IF(AND(H33="N",H35>$B$18),TEXT(H35-$B$18,"HH:MM"),IF(OR(H33="O",H33="A"),"",0))))) -> 0 | I30: =IF(AND(I33="GS",I35>$B$19),TEXT(I35-$B$19,"HH:MM"),IF(AND(I33="M",I35>$B$15),TEXT(I35-$B$15,"HH:MM"),IF(AND(I33="E",I35>$B$17),TEXT(I35-$B$17,"HH:MM"),IF(AND(I33="N",I35>$B$18),TEXT(I35-$B$18,"HH:MM"),IF(OR(I33="O",I33="A"),"",0))))) -> 00:16 | ... AF30: =IF(AND(AF33="GS",AF35>$B$19),TEXT(AF35-$B$19,"HH:MM"),IF(AND(AF33="M",AF35>$B$15),TEXT(AF35-$B$15,"HH:MM"),IF(AND(AF33="E",AF35>$B$17),TEXT(AF35-$B$17,"HH:MM"),IF(AND(AF33="N",AF35>$B$18),TEXT(AF35-$B$18,"HH:MM"),IF(OR(AF33="O",AF33="A"),"",0))))) -> 00:09
A31: Early By
A32: OT
A33: Shift | B33: =Entry!B4 -> GS | C33: =Entry!C4 -> GS | D33: =Entry!D4 -> GS | E33: =Entry!E4 -> GS | F33: =Entry!F4 -> O | G33: =Entry!G4 -> GS | H33: =Entry!H4 -> GS | I33: =Entry!I4 -> GS | ... AF33: =Entry!AF4 -> GS
A34: M | B34: 0.33333333
B35: =IF(OR(B33="O",B33="A"),"O ",VALUE(B27)) -> 0.36944444 | C35: =IF(OR(C33="O",C33="A"),"O ",VALUE(C27)) -> 0.38541667 | D35: =IF(OR(D33="O",D33="A"),"O ",VALUE(D27)) -> 0.37986111 | E35: =IF(OR(E33="O",E33="A"),"O ",VALUE(E27)) -> 0.36666667 | F35: =IF(OR(F33="O",F33="A"),"O ",VALUE(F27)) -> O | G35: =IF(OR(G33="O",G33="A"),"O ",VALUE(G27)) -> 0.38611111 | H35: =IF(OR(H33="O",H33="A"),"O ",VALUE(H27)) -> 0.36875 | I35: =IF(OR(I33="O",I33="A"),"O ",VALUE(I27)) -> 0.38611111 | ... AF35: =IF(OR(AF33="O",AF33="A"),"O ",VALUE(AF27)) -> 0.38125
A36: E | B36: 0.58333333
A37: N | B37: 0.83333333
A38: GS | B38: 0.375
A39: Late | B39: =IF(OR(B33="O",B33="A"),0,VALUE(B30)) -> 0 | C39: =IF(OR(C33="O",C33="A"),0,VALUE(C30)) -> 0.010416667 | D39: =IF(OR(D33="O",D33="A"),0,VALUE(D30)) -> 0.0048611111 | E39: =IF(OR(E33="O",E33="A"),0,VALUE(E30)) -> 0 | F39: =IF(OR(F33="O",F33="A"),0,VALUE(F30)) -> 0 | G39: =IF(OR(G33="O",G33="A"),0,VALUE(G30)) -> 0.011111111 | H39: =IF(OR(H33="O",H33="A"),0,VALUE(H30)) -> 0 | I39: =IF(OR(I33="O",I33="A"),0,VALUE(I30)) -> 0.011111111 | ... AF39: =IF(OR(AF33="O",AF33="A"),0,VALUE(AF30)) -> 0.00625 | AH39: =SUM(B39:AF39) -> 0.12777778
B40: =IF(OR(B33="O",B33="A"),0,VALUE(B29)) -> 0.34722222 | C40: =IF(OR(C33="O",C33="A"),0,VALUE(C29)) -> 0.325 | D40: =IF(OR(D33="O",D33="A"),0,VALUE(D29)) -> 0.34027778 | E40: =IF(OR(E33="O",E33="A"),0,VALUE(E29)) -> 0.35 | F40: =IF(OR(F33="O",F33="A"),0,VALUE(F29)) -> 0 | G40: =IF(OR(G33="O",G33="A"),0,VALUE(G29)) -> 0.325 | H40: =IF(OR(H33="O",H33="A"),0,VALUE(H29)) -> 0.34652778 | I40: =IF(OR(I33="O",I33="A"),0,VALUE(I29)) -> 0.32777778 | ... AF40: =IF(OR(AF33="O",AF33="A"),0,VALUE(AF29)) -> 0.32777778 | AH40: =SUM(B40:AF40) -> 8.7451389
A45: =Entry!A5 -> DR. PANKAJ VERMA | H45: Total Work Duration: | L45: =AH61 -> 8.7840278 | M45: Hrs. | N45: Total OT: | P45: 0 | Q45: Hrs | R45: Present: | T45: =AI47 -> 26 | U45: Absent: | W45: =AI48 -> 0 | X45: WeeklyOff: | Z45: =AI49 -> 5 | AA45: Holidays: 0 Leaves Taken:0
H46: Late By Hrs: | K46: =AH60 -> 0.1125 | L46: Late By Days: | N46: 0
A47: Status | B47: =IF(B54="M","P",IF(B54="E","P",IF(B54="N","P",IF(B54="GS","P",IF(B54="O","O","A"))))) -> P | C47: =IF(C54="M","P",IF(C54="E","P",IF(C54="N","P",IF(C54="GS","P",IF(C54="O","O","A"))))) -> P | D47: =IF(D54="M","P",IF(D54="E","P",IF(D54="N","P",IF(D54="GS","P",IF(D54="O","O","A"))))) -> P | E47: =IF(E54="M","P",IF(E54="E","P",IF(E54="N","P",IF(E54="GS","P",IF(E54="O","O","A"))))) -> P | F47: =IF(F54="M","P",IF(F54="E","P",IF(F54="N","P",IF(F54="GS","P",IF(F54="O","O","A"))))) -> O | G47: =IF(G54="M","P",IF(G54="E","P",IF(G54="N","P",IF(G54="GS","P",IF(G54="O","O","A"))))) -> P | H47: =IF(H54="M","P",IF(H54="E","P",IF(H54="N","P",IF(H54="GS","P",IF(H54="O","O","A"))))) -> P | I47: =IF(I54="M","P",IF(I54="E","P",IF(I54="N","P",IF(I54="GS","P",IF(I54="O","O","A"))))) -> P | ... AF47: =IF(AF54="M","P",IF(AF54="E","P",IF(AF54="N","P",IF(AF54="GS","P",IF(AF54="O","O","A"))))) -> P | AH47: present | AI47: =COUNTIF(B47:AF47,"P") -> 26
A48: InTime | B48: =IF(B54="M",TEXT(7.8/24+RAND()*(8.3/24-7.8/24),"HH:MM"),(IF(B54="E",TEXT(13.8/24+RAND()*(14.3/24-13.8/24),"HH:MM"),IF(B54="GS",TEXT(8.8/24+RAND()*(9.3/24-8.8/24),"HH:MM"),IF(B54="N",TEXT(19.8/24+RAND()*(20.3/24-19.8/24),"HH:MM"),""))))) -> 09:08 | C48: =IF(C54="M",TEXT(7.8/24+RAND()*(8.3/24-7.8/24),"HH:MM"),(IF(C54="E",TEXT(13.8/24+RAND()*(14.3/24-13.8/24),"HH:MM"),IF(C54="GS",TEXT(8.8/24+RAND()*(9.3/24-8.8/24),"HH:MM"),IF(C54="N",TEXT(19.8/24+RAND()*(20.3/24-19.8/24),"HH:MM"),""))))) -> 09:14 | D48: =IF(D54="M",TEXT(7.8/24+RAND()*(8.3/24-7.8/24),"HH:MM"),(IF(D54="E",TEXT(13.8/24+RAND()*(14.3/24-13.8/24),"HH:MM"),IF(D54="GS",TEXT(8.8/24+RAND()*(9.3/24-8.8/24),"HH:MM"),IF(D54="N",TEXT(19.8/24+RAND()*(20.3/24-19.8/24),"HH:MM"),""))))) -> 08:52 | E48: =IF(E54="M",TEXT(7.8/24+RAND()*(8.3/24-7.8/24),"HH:MM"),(IF(E54="E",TEXT(13.8/24+RAND()*(14.3/24-13.8/24),"HH:MM"),IF(E54="GS",TEXT(8.8/24+RAND()*(9.3/24-8.8/24),"HH:MM"),IF(E54="N",TEXT(19.8/24+RAND()*(20.3/24-19.8/24),"HH:MM"),""))))) -> 09:02 | F48: =IF(F54="M",TEXT(7.8/24+RAND()*(8.3/24-7.8/24),"HH:MM"),(IF(F54="E",TEXT(13.8/24+RAND()*(14.3/24-13.8/24),"HH:MM"),IF(F54="GS",TEXT(8.8/24+RAND()*(9.3/24-8.8/24),"HH:MM"),IF(F54="N",TEXT(19.8/24+RAND()*(20.3/24-19.8/24),"HH:MM"),""))))) | G48: =IF(G54="M",TEXT(7.8/24+RAND()*(8.3/24-7.8/24),"HH:MM"),(IF(G54="E",TEXT(13.8/24+RAND()*(14.3/24-13.8/24),"HH:MM"),IF(G54="GS",TEXT(8.8/24+RAND()*(9.3/24-8.8/24),"HH:MM"),IF(G54="N",TEXT(19.8/24+RAND()*(20.3/24-19.8/24),"HH:MM"),""))))) -> 09:04 | H48: =IF(H54="M",TEXT(7.8/24+RAND()*(8.3/24-7.8/24),"HH:MM"),(IF(H54="E",TEXT(13.8/24+RAND()*(14.3/24-13.8/24),"HH:MM"),IF(H54="GS",TEXT(8.8/24+RAND()*(9.3/24-8.8/24),"HH:MM"),IF(H54="N",TEXT(19.8/24+RAND()*(20.3/24-19.8/24),"HH:MM"),""))))) -> 08:51 | I48: =IF(I54="M",TEXT(7.8/24+RAND()*(8.3/24-7.8/24),"HH:MM"),(IF(I54="E",TEXT(13.8/24+RAND()*(14.3/24-13.8/24),"HH:MM"),IF(I54="GS",TEXT(8.8/24+RAND()*(9.3/24-8.8/24),"HH:MM"),IF(I54="N",TEXT(19.8/24+RAND()*(20.3/24-19.8/24),"HH:MM"),""))))) -> 09:13 | ... AF48: =IF(AF54="M",TEXT(7.8/24+RAND()*(8.3/24-7.8/24),"HH:MM"),(IF(AF54="E",TEXT(13.8/24+RAND()*(14.3/24-13.8/24),"HH:MM"),IF(AF54="GS",TEXT(8.8/24+RAND()*(9.3/24-8.8/24),"HH:MM"),IF(AF54="N",TEXT(19.8/24+RAND()*(20.3/24-19.8/24),"HH:MM"),""))))) -> 09:08 | AH48: absent | AI48: =COUNTIF(B47:AF47,"A") -> 0
A49: OutTime | B49: =IF(B54="M",TEXT(17/24+RAND()*(17.3/24-17/24),"HH:MM"),(IF(B54="E",TEXT(20/24+RAND()*(20.3/24-20/24),"HH:MM"),IF(B54="N",TEXT(8/24+RAND()*(8.3/24-8/24),"HH:MM"),IF(B54="GS",TEXT(17/24+RAND()*(17.3/24-17/24),"HH:MM"),""))))) -> 17:12 | C49: =IF(C54="M",TEXT(17/24+RAND()*(17.3/24-17/24),"HH:MM"),(IF(C54="E",TEXT(20/24+RAND()*(20.3/24-20/24),"HH:MM"),IF(C54="N",TEXT(8/24+RAND()*(8.3/24-8/24),"HH:MM"),IF(C54="GS",TEXT(17/24+RAND()*(17.3/24-17/24),"HH:MM"),""))))) -> 17:12 | D49: =IF(D54="M",TEXT(17/24+RAND()*(17.3/24-17/24),"HH:MM"),(IF(D54="E",TEXT(20/24+RAND()*(20.3/24-20/24),"HH:MM"),IF(D54="N",TEXT(8/24+RAND()*(8.3/24-8/24),"HH:MM"),IF(D54="GS",TEXT(17/24+RAND()*(17.3/24-17/24),"HH:MM"),""))))) -> 17:02 | E49: =IF(E54="M",TEXT(17/24+RAND()*(17.3/24-17/24),"HH:MM"),(IF(E54="E",TEXT(20/24+RAND()*(20.3/24-20/24),"HH:MM"),IF(E54="N",TEXT(8/24+RAND()*(8.3/24-8/24),"HH:MM"),IF(E54="GS",TEXT(17/24+RAND()*(17.3/24-17/24),"HH:MM"),""))))) -> 17:01 | F49: =IF(F54="M",TEXT(17/24+RAND()*(17.3/24-17/24),"HH:MM"),(IF(F54="E",TEXT(20/24+RAND()*(20.3/24-20/24),"HH:MM"),IF(F54="N",TEXT(8/24+RAND()*(8.3/24-8/24),"HH:MM"),IF(F54="GS",TEXT(17/24+RAND()*(17.3/24-17/24),"HH:MM"),""))))) | G49: =IF(G54="M",TEXT(17/24+RAND()*(17.3/24-17/24),"HH:MM"),(IF(G54="E",TEXT(20/24+RAND()*(20.3/24-20/24),"HH:MM"),IF(G54="N",TEXT(8/24+RAND()*(8.3/24-8/24),"HH:MM"),IF(G54="GS",TEXT(17/24+RAND()*(17.3/24-17/24),"HH:MM"),""))))) -> 17:16 | H49: =IF(H54="M",TEXT(17/24+RAND()*(17.3/24-17/24),"HH:MM"),(IF(H54="E",TEXT(20/24+RAND()*(20.3/24-20/24),"HH:MM"),IF(H54="N",TEXT(8/24+RAND()*(8.3/24-8/24),"HH:MM"),IF(H54="GS",TEXT(17/24+RAND()*(17.3/24-17/24),"HH:MM"),""))))) -> 17:06 | I49: =IF(I54="M",TEXT(17/24+RAND()*(17.3/24-17/24),"HH:MM"),(IF(I54="E",TEXT(20/24+RAND()*(20.3/24-20/24),"HH:MM"),IF(I54="N",TEXT(8/24+RAND()*(8.3/24-8/24),"HH:MM"),IF(I54="GS",TEXT(17/24+RAND()*(17.3/24-17/24),"HH:MM"),""))))) -> 17:11 | ... AF49: =IF(AF54="M",TEXT(17/24+RAND()*(17.3/24-17/24),"HH:MM"),(IF(AF54="E",TEXT(20/24+RAND()*(20.3/24-20/24),"HH:MM"),IF(AF54="N",TEXT(8/24+RAND()*(8.3/24-8/24),"HH:MM"),IF(AF54="GS",TEXT(17/24+RAND()*(17.3/24-17/24),"HH:MM"),""))))) -> 17:16 | AH49: WeekOFF | AI49: =COUNTIF(B54:AF54,"O") -> 5
A50: Duration | B50: =IF(B54="M",TEXT(B49-B48,"H:MM"),IF(B54="E",TEXT(B49-B48,"H:MM"),IF(B54="N",TEXT(B49+24-B48+30,"H:MM"),IF(B54="GS",TEXT(B49-B48,"H:MM"),"")))) -> 8:04 | C50: =IF(C54="M",TEXT(C49-C48,"H:MM"),IF(C54="E",TEXT(C49-C48,"H:MM"),IF(C54="N",TEXT(C49+24-C48+30,"H:MM"),IF(C54="GS",TEXT(C49-C48,"H:MM"),"")))) -> 7:58 | D50: =IF(D54="M",TEXT(D49-D48,"H:MM"),IF(D54="E",TEXT(D49-D48,"H:MM"),IF(D54="N",TEXT(D49+24-D48+30,"H:MM"),IF(D54="GS",TEXT(D49-D48,"H:MM"),"")))) -> 8:10 | E50: =IF(E54="M",TEXT(E49-E48,"H:MM"),IF(E54="E",TEXT(E49-E48,"H:MM"),IF(E54="N",TEXT(E49+24-E48+30,"H:MM"),IF(E54="GS",TEXT(E49-E48,"H:MM"),"")))) -> 7:59 | F50: =IF(F54="M",TEXT(F49-F48,"H:MM"),IF(F54="E",TEXT(F49-F48,"H:MM"),IF(F54="N",TEXT(F49+24-F48+30,"H:MM"),IF(F54="GS",TEXT(F49-F48,"H:MM"),"")))) | G50: =IF(G54="M",TEXT(G49-G48,"H:MM"),IF(G54="E",TEXT(G49-G48,"H:MM"),IF(G54="N",TEXT(G49+24-G48+30,"H:MM"),IF(G54="GS",TEXT(G49-G48,"H:MM"),"")))) -> 8:12 | H50: =IF(H54="M",TEXT(H49-H48,"H:MM"),IF(H54="E",TEXT(H49-H48,"H:MM"),IF(H54="N",TEXT(H49+24-H48+30,"H:MM"),IF(H54="GS",TEXT(H49-H48,"H:MM"),"")))) -> 8:15 | I50: =IF(I54="M",TEXT(I49-I48,"H:MM"),IF(I54="E",TEXT(I49-I48,"H:MM"),IF(I54="N",TEXT(I49+24-I48+30,"H:MM"),IF(I54="GS",TEXT(I49-I48,"H:MM"),"")))) -> 7:58 | ... AF50: =IF(AF54="M",TEXT(AF49-AF48,"H:MM"),IF(AF54="E",TEXT(AF49-AF48,"H:MM"),IF(AF54="N",TEXT(AF49+24-AF48+30,"H:MM"),IF(AF54="GS",TEXT(AF49-AF48,"H:MM"),"")))) -> 8:08 | AH50: late by days | AI50: =COUNTIF(B51:AF51,(B51:AF51)>0) -> 0
A51: Late By | B51: =IF(AND(B54="GS",B56>$B$19),TEXT(B56-$B$19,"HH:MM"),IF(AND(B54="M",B56>$B$15),TEXT(B56-$B$15,"HH:MM"),IF(AND(B54="E",B56>$B$17),TEXT(B56-$B$17,"HH:MM"),IF(AND(B54="N",B56>$B$18),TEXT(B56-$B$18,"HH:MM"),IF(OR(B54="O",B54="A"),"",0))))) -> 00:08 | C51: =IF(AND(C54="GS",C56>$B$19),TEXT(C56-$B$19,"HH:MM"),IF(AND(C54="M",C56>$B$15),TEXT(C56-$B$15,"HH:MM"),IF(AND(C54="E",C56>$B$17),TEXT(C56-$B$17,"HH:MM"),IF(AND(C54="N",C56>$B$18),TEXT(C56-$B$18,"HH:MM"),IF(OR(C54="O",C54="A"),"",0))))) -> 00:14 | D51: =IF(AND(D54="GS",D56>$B$19),TEXT(D56-$B$19,"HH:MM"),IF(AND(D54="M",D56>$B$15),TEXT(D56-$B$15,"HH:MM"),IF(AND(D54="E",D56>$B$17),TEXT(D56-$B$17,"HH:MM"),IF(AND(D54="N",D56>$B$18),TEXT(D56-$B$18,"HH:MM"),IF(OR(D54="O",D54="A"),"",0))))) -> 0 | E51: =IF(AND(E54="GS",E56>$B$19),TEXT(E56-$B$19,"HH:MM"),IF(AND(E54="M",E56>$B$15),TEXT(E56-$B$15,"HH:MM"),IF(AND(E54="E",E56>$B$17),TEXT(E56-$B$17,"HH:MM"),IF(AND(E54="N",E56>$B$18),TEXT(E56-$B$18,"HH:MM"),IF(OR(E54="O",E54="A"),"",0))))) -> 00:02 | F51: =IF(AND(F54="GS",F56>$B$19),TEXT(F56-$B$19,"HH:MM"),IF(AND(F54="M",F56>$B$15),TEXT(F56-$B$15,"HH:MM"),IF(AND(F54="E",F56>$B$17),TEXT(F56-$B$17,"HH:MM"),IF(AND(F54="N",F56>$B$18),TEXT(F56-$B$18,"HH:MM"),IF(OR(F54="O",F54="A"),"",0))))) | G51: =IF(AND(G54="GS",G56>$B$19),TEXT(G56-$B$19,"HH:MM"),IF(AND(G54="M",G56>$B$15),TEXT(G56-$B$15,"HH:MM"),IF(AND(G54="E",G56>$B$17),TEXT(G56-$B$17,"HH:MM"),IF(AND(G54="N",G56>$B$18),TEXT(G56-$B$18,"HH:MM"),IF(OR(G54="O",G54="A"),"",0))))) -> 00:04 | H51: =IF(AND(H54="GS",H56>$B$19),TEXT(H56-$B$19,"HH:MM"),IF(AND(H54="M",H56>$B$15),TEXT(H56-$B$15,"HH:MM"),IF(AND(H54="E",H56>$B$17),TEXT(H56-$B$17,"HH:MM"),IF(AND(H54="N",H56>$B$18),TEXT(H56-$B$18,"HH:MM"),IF(OR(H54="O",H54="A"),"",0))))) -> 0 | I51: =IF(AND(I54="GS",I56>$B$19),TEXT(I56-$B$19,"HH:MM"),IF(AND(I54="M",I56>$B$15),TEXT(I56-$B$15,"HH:MM"),IF(AND(I54="E",I56>$B$17),TEXT(I56-$B$17,"HH:MM"),IF(AND(I54="N",I56>$B$18),TEXT(I56-$B$18,"HH:MM"),IF(OR(I54="O",I54="A"),"",0))))) -> 00:13 | ... AF51: =IF(AND(AF54="GS",AF56>$B$19),TEXT(AF56-$B$19,"HH:MM"),IF(AND(AF54="M",AF56>$B$15),TEXT(AF56-$B$15,"HH:MM"),IF(AND(AF54="E",AF56>$B$17),TEXT(AF56-$B$17,"HH:MM"),IF(AND(AF54="N",AF56>$B$18),TEXT(AF56-$B$18,"HH:MM"),IF(OR(AF54="O",AF54="A"),"",0))))) -> 00:08
A52: Early By
A53: OT
A54: Shift | B54: =Entry!B5 -> GS | C54: =Entry!C5 -> GS | D54: =Entry!D5 -> GS | E54: =Entry!E5 -> GS | F54: =Entry!F5 -> O | G54: =Entry!G5 -> GS | H54: =Entry!H5 -> GS | I54: =Entry!I5 -> GS | ... AF54: =Entry!AF5 -> GS
A55: M | B55: 0.33333333
B56: =IF(OR(B54="O",B54="A"),"O ",VALUE(B48)) -> 0.38055556 | C56: =IF(OR(C54="O",C54="A"),"O ",VALUE(C48)) -> 0.38472222 | D56: =IF(OR(D54="O",D54="A"),"O ",VALUE(D48)) -> 0.36944444 | E56: =IF(OR(E54="O",E54="A"),"O ",VALUE(E48)) -> 0.37638889 | F56: =IF(OR(F54="O",F54="A"),"O ",VALUE(F48)) -> O | G56: =IF(OR(G54="O",G54="A"),"O ",VALUE(G48)) -> 0.37777778 | H56: =IF(OR(H54="O",H54="A"),"O ",VALUE(H48)) -> 0.36875 | I56: =IF(OR(I54="O",I54="A"),"O ",VALUE(I48)) -> 0.38402778 | ... AF56: =IF(OR(AF54="O",AF54="A"),"O ",VALUE(AF48)) -> 0.38055556
A57: E | B57: 0.58333333
A58: N | B58: 0.83333333
A59: GS | B59: 0.375
A60: Late | B60: =IF(OR(B54="O",B54="A"),0,VALUE(B51)) -> 0.0055555556 | C60: =IF(OR(C54="O",C54="A"),0,VALUE(C51)) -> 0.0097222222 | D60: =IF(OR(D54="O",D54="A"),0,VALUE(D51)) -> 0 | E60: =IF(OR(E54="O",E54="A"),0,VALUE(E51)) -> 0.0013888889 | F60: =IF(OR(F54="O",F54="A"),0,VALUE(F51)) -> 0 | G60: =IF(OR(G54="O",G54="A"),0,VALUE(G51)) -> 0.0027777778 | H60: =IF(OR(H54="O",H54="A"),0,VALUE(H51)) -> 0 | I60: =IF(OR(I54="O",I54="A"),0,VALUE(I51)) -> 0.0090277778 | ... AF60: =IF(OR(AF54="O",AF54="A"),0,VALUE(AF51)) -> 0.0055555556 | AH60: =SUM(B60:AF60) -> 0.1125
B61: =IF(OR(B54="O",B54="A"),0,VALUE(B50)) -> 0.33611111 | C61: =IF(OR(C54="O",C54="A"),0,VALUE(C50)) -> 0.33194444 | D61: =IF(OR(D54="O",D54="A"),0,VALUE(D50)) -> 0.34027778 | E61: =IF(OR(E54="O",E54="A"),0,VALUE(E50)) -> 0.33263889 | F61: =IF(OR(F54="O",F54="A"),0,VALUE(F50)) -> 0 | G61: =IF(OR(G54="O",G54="A"),0,VALUE(G50)) -> 0.34166667 | H61: =IF(OR(H54="O",H54="A"),0,VALUE(H50)) -> 0.34375 | I61: =IF(OR(I54="O",I54="A"),0,VALUE(I50)) -> 0.33194444 | ... AF61: =IF(OR(AF54="O",AF54="A"),0,VALUE(AF50)) -> 0.33888889 | AH61: =SUM(B61:AF61) -> 8.7840278
A65: =Entry!A6 -> DR. AKANKSHA PURI | H65: Total Work Duration: | L65: =AH81 -> 8.71875 | M65: Hrs. | N65: Total OT: | P65: 0 | Q65: Hrs | R65: Present: | T65: =AI67 -> 26 | U65: Absent: | W65: =AI68 -> 0 | X65: WeeklyOff: | Z65: =AI69 -> 5 | AA65: Holidays: 0 Leaves Taken:0
H66: Late By Hrs: | K66: =AH80 -> 0.11597222 | L66: Late By Days: | N66: 0
A67: Status | B67: =IF(B74="M","P",IF(B74="E","P",IF(B74="N","P",IF(B74="GS","P",IF(B74="O","O","A"))))) -> P | C67: =IF(C74="M","P",IF(C74="E","P",IF(C74="N","P",IF(C74="GS","P",IF(C74="O","O","A"))))) -> P | D67: =IF(D74="M","P",IF(D74="E","P",IF(D74="N","P",IF(D74="GS","P",IF(D74="O","O","A"))))) -> P | E67: =IF(E74="M","P",IF(E74="E","P",IF(E74="N","P",IF(E74="GS","P",IF(E74="O","O","A"))))) -> P | F67: =IF(F74="M","P",IF(F74="E","P",IF(F74="N","P",IF(F74="GS","P",IF(F74="O","O","A"))))) -> O | G67: =IF(G74="M","P",IF(G74="E","P",IF(G74="N","P",IF(G74="GS","P",IF(G74="O","O","A"))))) -> P | H67: =IF(H74="M","P",IF(H74="E","P",IF(H74="N","P",IF(H74="GS","P",IF(H74="O","O","A"))))) -> P | I67: =IF(I74="M","P",IF(I74="E","P",IF(I74="N","P",IF(I74="GS","P",IF(I74="O","O","A"))))) -> P | ... AF67: =IF(AF74="M","P",IF(AF74="E","P",IF(AF74="N","P",IF(AF74="GS","P",IF(AF74="O","O","A"))))) -> P | AH67: present | AI67: =COUNTIF(B67:AF67,"P") -> 26
A68: InTime | B68: =IF(B74="M",TEXT(7.8/24+RAND()*(8.3/24-7.8/24),"HH:MM"),(IF(B74="E",TEXT(13.8/24+RAND()*(14.3/24-13.8/24),"HH:MM"),IF(B74="GS",TEXT(8.8/24+RAND()*(9.3/24-8.8/24),"HH:MM"),IF(B74="N",TEXT(19.8/24+RAND()*(20.3/24-19.8/24),"HH:MM"),""))))) -> 09:01 | C68: =IF(C74="M",TEXT(7.8/24+RAND()*(8.3/24-7.8/24),"HH:MM"),(IF(C74="E",TEXT(13.8/24+RAND()*(14.3/24-13.8/24),"HH:MM"),IF(C74="GS",TEXT(8.8/24+RAND()*(9.3/24-8.8/24),"HH:MM"),IF(C74="N",TEXT(19.8/24+RAND()*(20.3/24-19.8/24),"HH:MM"),""))))) -> 09:12 | D68: =IF(D74="M",TEXT(7.8/24+RAND()*(8.3/24-7.8/24),"HH:MM"),(IF(D74="E",TEXT(13.8/24+RAND()*(14.3/24-13.8/24),"HH:MM"),IF(D74="GS",TEXT(8.8/24+RAND()*(9.3/24-8.8/24),"HH:MM"),IF(D74="N",TEXT(19.8/24+RAND()*(20.3/24-19.8/24),"HH:MM"),""))))) -> 09:06 | E68: =IF(E74="M",TEXT(7.8/24+RAND()*(8.3/24-7.8/24),"HH:MM"),(IF(E74="E",TEXT(13.8/24+RAND()*(14.3/24-13.8/24),"HH:MM"),IF(E74="GS",TEXT(8.8/24+RAND()*(9.3/24-8.8/24),"HH:MM"),IF(E74="N",TEXT(19.8/24+RAND()*(20.3/24-19.8/24),"HH:MM"),""))))) -> 09:10 | F68: =IF(F74="M",TEXT(7.8/24+RAND()*(8.3/24-7.8/24),"HH:MM"),(IF(F74="E",TEXT(13.8/24+RAND()*(14.3/24-13.8/24),"HH:MM"),IF(F74="GS",TEXT(8.8/24+RAND()*(9.3/24-8.8/24),"HH:MM"),IF(F74="N",TEXT(19.8/24+RAND()*(20.3/24-19.8/24),"HH:MM"),""))))) | G68: =IF(G74="M",TEXT(7.8/24+RAND()*(8.3/24-7.8/24),"HH:MM"),(IF(G74="E",TEXT(13.8/24+RAND()*(14.3/24-13.8/24),"HH:MM"),IF(G74="GS",TEXT(8.8/24+RAND()*(9.3/24-8.8/24),"HH:MM"),IF(G74="N",TEXT(19.8/24+RAND()*(20.3/24-19.8/24),"HH:MM"),""))))) -> 09:06 | H68: =IF(H74="M",TEXT(7.8/24+RAND()*(8.3/24-7.8/24),"HH:MM"),(IF(H74="E",TEXT(13.8/24+RAND()*(14.3/24-13.8/24),"HH:MM"),IF(H74="GS",TEXT(8.8/24+RAND()*(9.3/24-8.8/24),"HH:MM"),IF(H74="N",TEXT(19.8/24+RAND()*(20.3/24-19.8/24),"HH:MM"),""))))) -> 09:13 | I68: =IF(I74="M",TEXT(7.8/24+RAND()*(8.3/24-7.8/24),"HH:MM"),(IF(I74="E",TEXT(13.8/24+RAND()*(14.3/24-13.8/24),"HH:MM"),IF(I74="GS",TEXT(8.8/24+RAND()*(9.3/24-8.8/24),"HH:MM"),IF(I74="N",TEXT(19.8/24+RAND()*(20.3/24-19.8/24),"HH:MM"),""))))) -> 08:59 | ... AF68: =IF(AF74="M",TEXT(7.8/24+RAND()*(8.3/24-7.8/24),"HH:MM"),(IF(AF74="E",TEXT(13.8/24+RAND()*(14.3/24-13.8/24),"HH:MM"),IF(AF74="GS",TEXT(8.8/24+RAND()*(9.3/24-8.8/24),"HH:MM"),IF(AF74="N",TEXT(19.8/24+RAND()*(20.3/24-19.8/24),"HH:MM"),""))))) -> 09:13 | AH68: absent | AI68: =COUNTIF(B67:AF67,"A") -> 0
A69: OutTime | B69: =IF(B74="M",TEXT(17/24+RAND()*(17.3/24-17/24),"HH:MM"),(IF(B74="E",TEXT(20/24+RAND()*(20.3/24-20/24),"HH:MM"),IF(B74="N",TEXT(8/24+RAND()*(8.3/24-8/24),"HH:MM"),IF(B74="GS",TEXT(17/24+RAND()*(17.3/24-17/24),"HH:MM"),""))))) -> 17:11 | C69: =IF(C74="M",TEXT(17/24+RAND()*(17.3/24-17/24),"HH:MM"),(IF(C74="E",TEXT(20/24+RAND()*(20.3/24-20/24),"HH:MM"),IF(C74="N",TEXT(8/24+RAND()*(8.3/24-8/24),"HH:MM"),IF(C74="GS",TEXT(17/24+RAND()*(17.3/24-17/24),"HH:MM"),""))))) -> 17:06 | D69: =IF(D74="M",TEXT(17/24+RAND()*(17.3/24-17/24),"HH:MM"),(IF(D74="E",TEXT(20/24+RAND()*(20.3/24-20/24),"HH:MM"),IF(D74="N",TEXT(8/24+RAND()*(8.3/24-8/24),"HH:MM"),IF(D74="GS",TEXT(17/24+RAND()*(17.3/24-17/24),"HH:MM"),""))))) -> 17:02 | E69: =IF(E74="M",TEXT(17/24+RAND()*(17.3/24-17/24),"HH:MM"),(IF(E74="E",TEXT(20/24+RAND()*(20.3/24-20/24),"HH:MM"),IF(E74="N",TEXT(8/24+RAND()*(8.3/24-8/24),"HH:MM"),IF(E74="GS",TEXT(17/24+RAND()*(17.3/24-17/24),"HH:MM"),""))))) -> 17:10 | F69: =IF(F74="M",TEXT(17/24+RAND()*(17.3/24-17/24),"HH:MM"),(IF(F74="E",TEXT(20/24+RAND()*(20.3/24-20/24),"HH:MM"),IF(F74="N",TEXT(8/24+RAND()*(8.3/24-8/24),"HH:MM"),IF(F74="GS",TEXT(17/24+RAND()*(17.3/24-17/24),"HH:MM"),""))))) | G69: =IF(G74="M",TEXT(17/24+RAND()*(17.3/24-17/24),"HH:MM"),(IF(G74="E",TEXT(20/24+RAND()*(20.3/24-20/24),"HH:MM"),IF(G74="N",TEXT(8/24+RAND()*(8.3/24-8/24),"HH:MM"),IF(G74="GS",TEXT(17/24+RAND()*(17.3/24-17/24),"HH:MM"),""))))) -> 17:11 | H69: =IF(H74="M",TEXT(17/24+RAND()*(17.3/24-17/24),"HH:MM"),(IF(H74="E",TEXT(20/24+RAND()*(20.3/24-20/24),"HH:MM"),IF(H74="N",TEXT(8/24+RAND()*(8.3/24-8/24),"HH:MM"),IF(H74="GS",TEXT(17/24+RAND()*(17.3/24-17/24),"HH:MM"),""))))) -> 17:09 | I69: =IF(I74="M",TEXT(17/24+RAND()*(17.3/24-17/24),"HH:MM"),(IF(I74="E",TEXT(20/24+RAND()*(20.3/24-20/24),"HH:MM"),IF(I74="N",TEXT(8/24+RAND()*(8.3/24-8/24),"HH:MM"),IF(I74="GS",TEXT(17/24+RAND()*(17.3/24-17/24),"HH:MM"),""))))) -> 17:06 | ... AF69: =IF(AF74="M",TEXT(17/24+RAND()*(17.3/24-17/24),"HH:MM"),(IF(AF74="E",TEXT(20/24+RAND()*(20.3/24-20/24),"HH:MM"),IF(AF74="N",TEXT(8/24+RAND()*(8.3/24-8/24),"HH:MM"),IF(AF74="GS",TEXT(17/24+RAND()*(17.3/24-17/24),"HH:MM"),""))))) -> 17:01 | AH69: WeekOFF | AI69: =COUNTIF(B74:AF74,"O") -> 5
A70: Duration | B70: =IF(B74="M",TEXT(B69-B68,"H:MM"),IF(B74="E",TEXT(B69-B68,"H:MM"),IF(B74="N",TEXT(B69+24-B68+30,"H:MM"),IF(B74="GS",TEXT(B69-B68,"H:MM"),"")))) -> 8:10 | C70: =IF(C74="M",TEXT(C69-C68,"H:MM"),IF(C74="E",TEXT(C69-C68,"H:MM"),IF(C74="N",TEXT(C69+24-C68+30,"H:MM"),IF(C74="GS",TEXT(C69-C68,"H:MM"),"")))) -> 7:54 | D70: =IF(D74="M",TEXT(D69-D68,"H:MM"),IF(D74="E",TEXT(D69-D68,"H:MM"),IF(D74="N",TEXT(D69+24-D68+30,"H:MM"),IF(D74="GS",TEXT(D69-D68,"H:MM"),"")))) -> 7:56 | E70: =IF(E74="M",TEXT(E69-E68,"H:MM"),IF(E74="E",TEXT(E69-E68,"H:MM"),IF(E74="N",TEXT(E69+24-E68+30,"H:MM"),IF(E74="GS",TEXT(E69-E68,"H:MM"),"")))) -> 8:00 | F70: =IF(F74="M",TEXT(F69-F68,"H:MM"),IF(F74="E",TEXT(F69-F68,"H:MM"),IF(F74="N",TEXT(F69+24-F68+30,"H:MM"),IF(F74="GS",TEXT(F69-F68,"H:MM"),"")))) | G70: =IF(G74="M",TEXT(G69-G68,"H:MM"),IF(G74="E",TEXT(G69-G68,"H:MM"),IF(G74="N",TEXT(G69+24-G68+30,"H:MM"),IF(G74="GS",TEXT(G69-G68,"H:MM"),"")))) -> 8:05 | H70: =IF(H74="M",TEXT(H69-H68,"H:MM"),IF(H74="E",TEXT(H69-H68,"H:MM"),IF(H74="N",TEXT(H69+24-H68+30,"H:MM"),IF(H74="GS",TEXT(H69-H68,"H:MM"),"")))) -> 7:56 | I70: =IF(I74="M",TEXT(I69-I68,"H:MM"),IF(I74="E",TEXT(I69-I68,"H:MM"),IF(I74="N",TEXT(I69+24-I68+30,"H:MM"),IF(I74="GS",TEXT(I69-I68,"H:MM"),"")))) -> 8:07 | ... AF70: =IF(AF74="M",TEXT(AF69-AF68,"H:MM"),IF(AF74="E",TEXT(AF69-AF68,"H:MM"),IF(AF74="N",TEXT(AF69+24-AF68+30,"H:MM"),IF(AF74="GS",TEXT(AF69-AF68,"H:MM"),"")))) -> 7:48 | AH70: late by days | AI70: =COUNTIF(B71:AF71,(B71:AF71)>0) -> 0
A71: Late By | B71: =IF(AND(B74="GS",B76>$B$19),TEXT(B76-$B$19,"HH:MM"),IF(AND(B74="M",B76>$B$15),TEXT(B76-$B$15,"HH:MM"),IF(AND(B74="E",B76>$B$17),TEXT(B76-$B$17,"HH:MM"),IF(AND(B74="N",B76>$B$18),TEXT(B76-$B$18,"HH:MM"),IF(OR(B74="O",B74="A"),"",0))))) -> 00:01 | C71: =IF(AND(C74="GS",C76>$B$19),TEXT(C76-$B$19,"HH:MM"),IF(AND(C74="M",C76>$B$15),TEXT(C76-$B$15,"HH:MM"),IF(AND(C74="E",C76>$B$17),TEXT(C76-$B$17,"HH:MM"),IF(AND(C74="N",C76>$B$18),TEXT(C76-$B$18,"HH:MM"),IF(OR(C74="O",C74="A"),"",0))))) -> 00:12 | D71: =IF(AND(D74="GS",D76>$B$19),TEXT(D76-$B$19,"HH:MM"),IF(AND(D74="M",D76>$B$15),TEXT(D76-$B$15,"HH:MM"),IF(AND(D74="E",D76>$B$17),TEXT(D76-$B$17,"HH:MM"),IF(AND(D74="N",D76>$B$18),TEXT(D76-$B$18,"HH:MM"),IF(OR(D74="O",D74="A"),"",0))))) -> 00:06 | E71: =IF(AND(E74="GS",E76>$B$19),TEXT(E76-$B$19,"HH:MM"),IF(AND(E74="M",E76>$B$15),TEXT(E76-$B$15,"HH:MM"),IF(AND(E74="E",E76>$B$17),TEXT(E76-$B$17,"HH:MM"),IF(AND(E74="N",E76>$B$18),TEXT(E76-$B$18,"HH:MM"),IF(OR(E74="O",E74="A"),"",0))))) -> 00:10 | F71: =IF(AND(F74="GS",F76>$B$19),TEXT(F76-$B$19,"HH:MM"),IF(AND(F74="M",F76>$B$15),TEXT(F76-$B$15,"HH:MM"),IF(AND(F74="E",F76>$B$17),TEXT(F76-$B$17,"HH:MM"),IF(AND(F74="N",F76>$B$18),TEXT(F76-$B$18,"HH:MM"),IF(OR(F74="O",F74="A"),"",0))))) | G71: =IF(AND(G74="GS",G76>$B$19),TEXT(G76-$B$19,"HH:MM"),IF(AND(G74="M",G76>$B$15),TEXT(G76-$B$15,"HH:MM"),IF(AND(G74="E",G76>$B$17),TEXT(G76-$B$17,"HH:MM"),IF(AND(G74="N",G76>$B$18),TEXT(G76-$B$18,"HH:MM"),IF(OR(G74="O",G74="A"),"",0))))) -> 00:06 | H71: =IF(AND(H74="GS",H76>$B$19),TEXT(H76-$B$19,"HH:MM"),IF(AND(H74="M",H76>$B$15),TEXT(H76-$B$15,"HH:MM"),IF(AND(H74="E",H76>$B$17),TEXT(H76-$B$17,"HH:MM"),IF(AND(H74="N",H76>$B$18),TEXT(H76-$B$18,"HH:MM"),IF(OR(H74="O",H74="A"),"",0))))) -> 00:13 | I71: =IF(AND(I74="GS",I76>$B$19),TEXT(I76-$B$19,"HH:MM"),IF(AND(I74="M",I76>$B$15),TEXT(I76-$B$15,"HH:MM"),IF(AND(I74="E",I76>$B$17),TEXT(I76-$B$17,"HH:MM"),IF(AND(I74="N",I76>$B$18),TEXT(I76-$B$18,"HH:MM"),IF(OR(I74="O",I74="A"),"",0))))) -> 0 | ... AF71: =IF(AND(AF74="GS",AF76>$B$19),TEXT(AF76-$B$19,"HH:MM"),IF(AND(AF74="M",AF76>$B$15),TEXT(AF76-$B$15,"HH:MM"),IF(AND(AF74="E",AF76>$B$17),TEXT(AF76-$B$17,"HH:MM"),IF(AND(AF74="N",AF76>$B$18),TEXT(AF76-$B$18,"HH:MM"),IF(OR(AF74="O",AF74="A"),"",0))))) -> 00:13
A72: Early By
A73: OT
A74: Shift | B74: =Entry!B6 -> GS | C74: =Entry!C6 -> GS | D74: =Entry!D6 -> GS | E74: =Entry!E6 -> GS | F74: =Entry!F6 -> O | G74: =Entry!G6 -> GS | H74: =Entry!H6 -> GS | I74: =Entry!I6 -> GS | ... AF74: =Entry!AF6 -> GS
A75: M | B75: 0.33333333
B76: =IF(OR(B74="O",B74="A"),"O ",VALUE(B68)) -> 0.37569444 | C76: =IF(OR(C74="O",C74="A"),"O ",VALUE(C68)) -> 0.38333333 | D76: =IF(OR(D74="O",D74="A"),"O ",VALUE(D68)) -> 0.37916667 | E76: =IF(OR(E74="O",E74="A"),"O ",VALUE(E68)) -> 0.38194444 | F76: =IF(OR(F74="O",F74="A"),"O ",VALUE(F68)) -> O | G76: =IF(OR(G74="O",G74="A"),"O ",VALUE(G68)) -> 0.37916667 | H76: =IF(OR(H74="O",H74="A"),"O ",VALUE(H68)) -> 0.38402778 | I76: =IF(OR(I74="O",I74="A"),"O ",VALUE(I68)) -> 0.37430556 | ... AF76: =IF(OR(AF74="O",AF74="A"),"O ",VALUE(AF68)) -> 0.38402778
A77: E | B77: 0.58333333
A78: N | B78: 0.83333333
A79: GS | B79: 0.375
A80: Late | B80: =IF(OR(B74="O",B74="A"),0,VALUE(B71)) -> 0.00069444444 | C80: =IF(OR(C74="O",C74="A"),0,VALUE(C71)) -> 0.0083333333 | D80: =IF(OR(D74="O",D74="A"),0,VALUE(D71)) -> 0.0041666667 | E80: =IF(OR(E74="O",E74="A"),0,VALUE(E71)) -> 0.0069444444 | F80: =IF(OR(F74="O",F74="A"),0,VALUE(F71)) -> 0 | G80: =IF(OR(G74="O",G74="A"),0,VALUE(G71)) -> 0.0041666667 | H80: =IF(OR(H74="O",H74="A"),0,VALUE(H71)) -> 0.0090277778 | I80: =IF(OR(I74="O",I74="A"),0,VALUE(I71)) -> 0 | ... AF80: =IF(OR(AF74="O",AF74="A"),0,VALUE(AF71)) -> 0.0090277778 | AH80: =SUM(B80:AF80) -> 0.11597222
B81: =IF(OR(B74="O",B74="A"),0,VALUE(B70)) -> 0.34027778 | C81: =IF(OR(C74="O",C74="A"),0,VALUE(C70)) -> 0.32916667 | D81: =IF(OR(D74="O",D74="A"),0,VALUE(D70)) -> 0.33055556 | E81: =IF(OR(E74="O",E74="A"),0,VALUE(E70)) -> 0.33333333 | F81: =IF(OR(F74="O",F74="A"),0,VALUE(F70)) -> 0 | G81: =IF(OR(G74="O",G74="A"),0,VALUE(G70)) -> 0.33680556 | H81: =IF(OR(H74="O",H74="A"),0,VALUE(H70)) -> 0.33055556 | I81: =IF(OR(I74="O",I74="A"),0,VALUE(I70)) -> 0.33819444 | ... AF81: =IF(OR(AF74="O",AF74="A"),0,VALUE(AF70)) -> 0.325 | AH81: =SUM(B81:AF81) -> 8.71875
A85: =Entry!A7 -> DR. SANJANA DEBNATH | H85: Total Work Duration: | L85: =AH101 -> 8.7708333 | M85: Hrs. | N85: Total OT: | P85: 0 | Q85: Hrs | R85: Present: | T85: =AI87 -> 26 | U85: Absent: | W85: =AI88 -> 0 | X85: WeeklyOff: | Z85: =AI89 -> 5 | AA85: Holidays: 0 Leaves Taken:0
H86: Late By Hrs: | K86: =AH100 -> 0.086805556 | L86: Late By Days: | N86: 0
A87: Status | B87: =IF(B94="M","P",IF(B94="E","P",IF(B94="N","P",IF(B94="GS","P",IF(B94="O","O","A"))))) -> P | C87: =IF(C94="M","P",IF(C94="E","P",IF(C94="N","P",IF(C94="GS","P",IF(C94="O","O","A"))))) -> P | D87: =IF(D94="M","P",IF(D94="E","P",IF(D94="N","P",IF(D94="GS","P",IF(D94="O","O","A"))))) -> P | E87: =IF(E94="M","P",IF(E94="E","P",IF(E94="N","P",IF(E94="GS","P",IF(E94="O","O","A"))))) -> P | F87: =IF(F94="M","P",IF(F94="E","P",IF(F94="N","P",IF(F94="GS","P",IF(F94="O","O","A"))))) -> O | G87: =IF(G94="M","P",IF(G94="E","P",IF(G94="N","P",IF(G94="GS","P",IF(G94="O","O","A"))))) -> P | H87: =IF(H94="M","P",IF(H94="E","P",IF(H94="N","P",IF(H94="GS","P",IF(H94="O","O","A"))))) -> P | I87: =IF(I94="M","P",IF(I94="E","P",IF(I94="N","P",IF(I94="GS","P",IF(I94="O","O","A"))))) -> P | ... AF87: =IF(AF94="M","P",IF(AF94="E","P",IF(AF94="N","P",IF(AF94="GS","P",IF(AF94="O","O","A"))))) -> P | AH87: present | AI87: =COUNTIF(B87:AF87,"P") -> 26
A88: InTime | B88: =IF(B94="M",TEXT(7.8/24+RAND()*(8.3/24-7.8/24),"HH:MM"),(IF(B94="E",TEXT(13.8/24+RAND()*(14.3/24-13.8/24),"HH:MM"),IF(B94="GS",TEXT(8.8/24+RAND()*(9.3/24-8.8/24),"HH:MM"),IF(B94="N",TEXT(19.8/24+RAND()*(20.3/24-19.8/24),"HH:MM"),""))))) -> 09:09 | C88: =IF(C94="M",TEXT(7.8/24+RAND()*(8.3/24-7.8/24),"HH:MM"),(IF(C94="E",TEXT(13.8/24+RAND()*(14.3/24-13.8/24),"HH:MM"),IF(C94="GS",TEXT(8.8/24+RAND()*(9.3/24-8.8/24),"HH:MM"),IF(C94="N",TEXT(19.8/24+RAND()*(20.3/24-19.8/24),"HH:MM"),""))))) -> 08:50 | D88: =IF(D94="M",TEXT(7.8/24+RAND()*(8.3/24-7.8/24),"HH:MM"),(IF(D94="E",TEXT(13.8/24+RAND()*(14.3/24-13.8/24),"HH:MM"),IF(D94="GS",TEXT(8.8/24+RAND()*(9.3/24-8.8/24),"HH:MM"),IF(D94="N",TEXT(19.8/24+RAND()*(20.3/24-19.8/24),"HH:MM"),""))))) -> 08:56 | E88: =IF(E94="M",TEXT(7.8/24+RAND()*(8.3/24-7.8/24),"HH:MM"),(IF(E94="E",TEXT(13.8/24+RAND()*(14.3/24-13.8/24),"HH:MM"),IF(E94="GS",TEXT(8.8/24+RAND()*(9.3/24-8.8/24),"HH:MM"),IF(E94="N",TEXT(19.8/24+RAND()*(20.3/24-19.8/24),"HH:MM"),""))))) -> 09:10 | F88: =IF(F94="M",TEXT(7.8/24+RAND()*(8.3/24-7.8/24),"HH:MM"),(IF(F94="E",TEXT(13.8/24+RAND()*(14.3/24-13.8/24),"HH:MM"),IF(F94="GS",TEXT(8.8/24+RAND()*(9.3/24-8.8/24),"HH:MM"),IF(F94="N",TEXT(19.8/24+RAND()*(20.3/24-19.8/24),"HH:MM"),""))))) | G88: =IF(G94="M",TEXT(7.8/24+RAND()*(8.3/24-7.8/24),"HH:MM"),(IF(G94="E",TEXT(13.8/24+RAND()*(14.3/24-13.8/24),"HH:MM"),IF(G94="GS",TEXT(8.8/24+RAND()*(9.3/24-8.8/24),"HH:MM"),IF(G94="N",TEXT(19.8/24+RAND()*(20.3/24-19.8/24),"HH:MM"),""))))) -> 09:00 | H88: =IF(H94="M",TEXT(7.8/24+RAND()*(8.3/24-7.8/24),"HH:MM"),(IF(H94="E",TEXT(13.8/24+RAND()*(14.3/24-13.8/24),"HH:MM"),IF(H94="GS",TEXT(8.8/24+RAND()*(9.3/24-8.8/24),"HH:MM"),IF(H94="N",TEXT(19.8/24+RAND()*(20.3/24-19.8/24),"HH:MM"),""))))) -> 08:55 | I88: =IF(I94="M",TEXT(7.8/24+RAND()*(8.3/24-7.8/24),"HH:MM"),(IF(I94="E",TEXT(13.8/24+RAND()*(14.3/24-13.8/24),"HH:MM"),IF(I94="GS",TEXT(8.8/24+RAND()*(9.3/24-8.8/24),"HH:MM"),IF(I94="N",TEXT(19.8/24+RAND()*(20.3/24-19.8/24),"HH:MM"),""))))) -> 08:59 | ... AF88: =IF(AF94="M",TEXT(7.8/24+RAND()*(8.3/24-7.8/24),"HH:MM"),(IF(AF94="E",TEXT(13.8/24+RAND()*(14.3/24-13.8/24),"HH:MM"),IF(AF94="GS",TEXT(8.8/24+RAND()*(9.3/24-8.8/24),"HH:MM"),IF(AF94="N",TEXT(19.8/24+RAND()*(20.3/24-19.8/24),"HH:MM"),""))))) -> 09:06 | AH88: absent | AI88: =COUNTIF(B87:AF87,"A") -> 0
A89: OutTime | B89: =IF(B94="M",TEXT(17/24+RAND()*(17.3/24-17/24),"HH:MM"),(IF(B94="E",TEXT(20/24+RAND()*(20.3/24-20/24),"HH:MM"),IF(B94="N",TEXT(8/24+RAND()*(8.3/24-8/24),"HH:MM"),IF(B94="GS",TEXT(17/24+RAND()*(17.3/24-17/24),"HH:MM"),""))))) -> 17:02 | C89: =IF(C94="M",TEXT(17/24+RAND()*(17.3/24-17/24),"HH:MM"),(IF(C94="E",TEXT(20/24+RAND()*(20.3/24-20/24),"HH:MM"),IF(C94="N",TEXT(8/24+RAND()*(8.3/24-8/24),"HH:MM"),IF(C94="GS",TEXT(17/24+RAND()*(17.3/24-17/24),"HH:MM"),""))))) -> 17:04 | D89: =IF(D94="M",TEXT(17/24+RAND()*(17.3/24-17/24),"HH:MM"),(IF(D94="E",TEXT(20/24+RAND()*(20.3/24-20/24),"HH:MM"),IF(D94="N",TEXT(8/24+RAND()*(8.3/24-8/24),"HH:MM"),IF(D94="GS",TEXT(17/24+RAND()*(17.3/24-17/24),"HH:MM"),""))))) -> 17:14 | E89: =IF(E94="M",TEXT(17/24+RAND()*(17.3/24-17/24),"HH:MM"),(IF(E94="E",TEXT(20/24+RAND()*(20.3/24-20/24),"HH:MM"),IF(E94="N",TEXT(8/24+RAND()*(8.3/24-8/24),"HH:MM"),IF(E94="GS",TEXT(17/24+RAND()*(17.3/24-17/24),"HH:MM"),""))))) -> 17:10 | F89: =IF(F94="M",TEXT(17/24+RAND()*(17.3/24-17/24),"HH:MM"),(IF(F94="E",TEXT(20/24+RAND()*(20.3/24-20/24),"HH:MM"),IF(F94="N",TEXT(8/24+RAND()*(8.3/24-8/24),"HH:MM"),IF(F94="GS",TEXT(17/24+RAND()*(17.3/24-17/24),"HH:MM"),""))))) | G89: =IF(G94="M",TEXT(17/24+RAND()*(17.3/24-17/24),"HH:MM"),(IF(G94="E",TEXT(20/24+RAND()*(20.3/24-20/24),"HH:MM"),IF(G94="N",TEXT(8/24+RAND()*(8.3/24-8/24),"HH:MM"),IF(G94="GS",TEXT(17/24+RAND()*(17.3/24-17/24),"HH:MM"),""))))) -> 17:13 | H89: =IF(H94="M",TEXT(17/24+RAND()*(17.3/24-17/24),"HH:MM"),(IF(H94="E",TEXT(20/24+RAND()*(20.3/24-20/24),"HH:MM"),IF(H94="N",TEXT(8/24+RAND()*(8.3/24-8/24),"HH:MM"),IF(H94="GS",TEXT(17/24+RAND()*(17.3/24-17/24),"HH:MM"),""))))) -> 17:16 | I89: =IF(I94="M",TEXT(17/24+RAND()*(17.3/24-17/24),"HH:MM"),(IF(I94="E",TEXT(20/24+RAND()*(20.3/24-20/24),"HH:MM"),IF(I94="N",TEXT(8/24+RAND()*(8.3/24-8/24),"HH:MM"),IF(I94="GS",TEXT(17/24+RAND()*(17.3/24-17/24),"HH:MM"),""))))) -> 17:08 | ... AF89: =IF(AF94="M",TEXT(17/24+RAND()*(17.3/24-17/24),"HH:MM"),(IF(AF94="E",TEXT(20/24+RAND()*(20.3/24-20/24),"HH:MM"),IF(AF94="N",TEXT(8/24+RAND()*(8.3/24-8/24),"HH:MM"),IF(AF94="GS",TEXT(17/24+RAND()*(17.3/24-17/24),"HH:MM"),""))))) -> 17:10 | AH89: WeekOFF | AI89: =COUNTIF(B94:AF94,"O") -> 5
A90: Duration | B90: =IF(B94="M",TEXT(B89-B88,"H:MM"),IF(B94="E",TEXT(B89-B88,"H:MM"),IF(B94="N",TEXT(B89+24-B88+30,"H:MM"),IF(B94="GS",TEXT(B89-B88,"H:MM"),"")))) -> 7:53 | C90: =IF(C94="M",TEXT(C89-C88,"H:MM"),IF(C94="E",TEXT(C89-C88,"H:MM"),IF(C94="N",TEXT(C89+24-C88+30,"H:MM"),IF(C94="GS",TEXT(C89-C88,"H:MM"),"")))) -> 8:14 | D90: =IF(D94="M",TEXT(D89-D88,"H:MM"),IF(D94="E",TEXT(D89-D88,"H:MM"),IF(D94="N",TEXT(D89+24-D88+30,"H:MM"),IF(D94="GS",TEXT(D89-D88,"H:MM"),"")))) -> 8:18 | E90: =IF(E94="M",TEXT(E89-E88,"H:MM"),IF(E94="E",TEXT(E89-E88,"H:MM"),IF(E94="N",TEXT(E89+24-E88+30,"H:MM"),IF(E94="GS",TEXT(E89-E88,"H:MM"),"")))) -> 8:00 | F90: =IF(F94="M",TEXT(F89-F88,"H:MM"),IF(F94="E",TEXT(F89-F88,"H:MM"),IF(F94="N",TEXT(F89+24-F88+30,"H:MM"),IF(F94="GS",TEXT(F89-F88,"H:MM"),"")))) | G90: =IF(G94="M",TEXT(G89-G88,"H:MM"),IF(G94="E",TEXT(G89-G88,"H:MM"),IF(G94="N",TEXT(G89+24-G88+30,"H:MM"),IF(G94="GS",TEXT(G89-G88,"H:MM"),"")))) -> 8:13 | H90: =IF(H94="M",TEXT(H89-H88,"H:MM"),IF(H94="E",TEXT(H89-H88,"H:MM"),IF(H94="N",TEXT(H89+24-H88+30,"H:MM"),IF(H94="GS",TEXT(H89-H88,"H:MM"),"")))) -> 8:21 | I90: =IF(I94="M",TEXT(I89-I88,"H:MM"),IF(I94="E",TEXT(I89-I88,"H:MM"),IF(I94="N",TEXT(I89+24-I88+30,"H:MM"),IF(I94="GS",TEXT(I89-I88,"H:MM"),"")))) -> 8:09 | ... AF90: =IF(AF94="M",TEXT(AF89-AF88,"H:MM"),IF(AF94="E",TEXT(AF89-AF88,"H:MM"),IF(AF94="N",TEXT(AF89+24-AF88+30,"H:MM"),IF(AF94="GS",TEXT(AF89-AF88,"H:MM"),"")))) -> 8:04 | AH90: late by days | AI90: =COUNTIF(B91:AF91,(B91:AF91)>0) -> 0
A91: Late By | B91: =IF(AND(B94="GS",B96>$B$19),TEXT(B96-$B$19,"HH:MM"),IF(AND(B94="M",B96>$B$15),TEXT(B96-$B$15,"HH:MM"),IF(AND(B94="E",B96>$B$17),TEXT(B96-$B$17,"HH:MM"),IF(AND(B94="N",B96>$B$18),TEXT(B96-$B$18,"HH:MM"),IF(OR(B94="O",B94="A"),"",0))))) -> 00:09 | C91: =IF(AND(C94="GS",C96>$B$19),TEXT(C96-$B$19,"HH:MM"),IF(AND(C94="M",C96>$B$15),TEXT(C96-$B$15,"HH:MM"),IF(AND(C94="E",C96>$B$17),TEXT(C96-$B$17,"HH:MM"),IF(AND(C94="N",C96>$B$18),TEXT(C96-$B$18,"HH:MM"),IF(OR(C94="O",C94="A"),"",0))))) -> 0 | D91: =IF(AND(D94="GS",D96>$B$19),TEXT(D96-$B$19,"HH:MM"),IF(AND(D94="M",D96>$B$15),TEXT(D96-$B$15,"HH:MM"),IF(AND(D94="E",D96>$B$17),TEXT(D96-$B$17,"HH:MM"),IF(AND(D94="N",D96>$B$18),TEXT(D96-$B$18,"HH:MM"),IF(OR(D94="O",D94="A"),"",0))))) -> 0 | E91: =IF(AND(E94="GS",E96>$B$19),TEXT(E96-$B$19,"HH:MM"),IF(AND(E94="M",E96>$B$15),TEXT(E96-$B$15,"HH:MM"),IF(AND(E94="E",E96>$B$17),TEXT(E96-$B$17,"HH:MM"),IF(AND(E94="N",E96>$B$18),TEXT(E96-$B$18,"HH:MM"),IF(OR(E94="O",E94="A"),"",0))))) -> 00:10 | F91: =IF(AND(F94="GS",F96>$B$19),TEXT(F96-$B$19,"HH:MM"),IF(AND(F94="M",F96>$B$15),TEXT(F96-$B$15,"HH:MM"),IF(AND(F94="E",F96>$B$17),TEXT(F96-$B$17,"HH:MM"),IF(AND(F94="N",F96>$B$18),TEXT(F96-$B$18,"HH:MM"),IF(OR(F94="O",F94="A"),"",0))))) | G91: =IF(AND(G94="GS",G96>$B$19),TEXT(G96-$B$19,"HH:MM"),IF(AND(G94="M",G96>$B$15),TEXT(G96-$B$15,"HH:MM"),IF(AND(G94="E",G96>$B$17),TEXT(G96-$B$17,"HH:MM"),IF(AND(G94="N",G96>$B$18),TEXT(G96-$B$18,"HH:MM"),IF(OR(G94="O",G94="A"),"",0))))) -> 0 | H91: =IF(AND(H94="GS",H96>$B$19),TEXT(H96-$B$19,"HH:MM"),IF(AND(H94="M",H96>$B$15),TEXT(H96-$B$15,"HH:MM"),IF(AND(H94="E",H96>$B$17),TEXT(H96-$B$17,"HH:MM"),IF(AND(H94="N",H96>$B$18),TEXT(H96-$B$18,"HH:MM"),IF(OR(H94="O",H94="A"),"",0))))) -> 0 | I91: =IF(AND(I94="GS",I96>$B$19),TEXT(I96-$B$19,"HH:MM"),IF(AND(I94="M",I96>$B$15),TEXT(I96-$B$15,"HH:MM"),IF(AND(I94="E",I96>$B$17),TEXT(I96-$B$17,"HH:MM"),IF(AND(I94="N",I96>$B$18),TEXT(I96-$B$18,"HH:MM"),IF(OR(I94="O",I94="A"),"",0))))) -> 0 | ... AF91: =IF(AND(AF94="GS",AF96>$B$19),TEXT(AF96-$B$19,"HH:MM"),IF(AND(AF94="M",AF96>$B$15),TEXT(AF96-$B$15,"HH:MM"),IF(AND(AF94="E",AF96>$B$17),TEXT(AF96-$B$17,"HH:MM"),IF(AND(AF94="N",AF96>$B$18),TEXT(AF96-$B$18,"HH:MM"),IF(OR(AF94="O",AF94="A"),"",0))))) -> 00:06
A92: Early By
A93: OT
A94: Shift | B94: =Entry!B7 -> GS | C94: =Entry!C7 -> GS | D94: =Entry!D7 -> GS | E94: =Entry!E7 -> GS | F94: =Entry!F7 -> O | G94: =Entry!G7 -> GS | H94: =Entry!H7 -> GS | I94: =Entry!I7 -> GS | ... AF94: =Entry!AF7 -> GS
A95: M | B95: 0.33333333
B96: =IF(OR(B94="O",B94="A"),"O ",VALUE(B88)) -> 0.38125 | C96: =IF(OR(C94="O",C94="A"),"O ",VALUE(C88)) -> 0.36805556 | D96: =IF(OR(D94="O",D94="A"),"O ",VALUE(D88)) -> 0.37222222 | E96: =IF(OR(E94="O",E94="A"),"O ",VALUE(E88)) -> 0.38194444 | F96: =IF(OR(F94="O",F94="A"),"O ",VALUE(F88)) -> O | G96: =IF(OR(G94="O",G94="A"),"O ",VALUE(G88)) -> 0.375 | H96: =IF(OR(H94="O",H94="A"),"O ",VALUE(H88)) -> 0.37152778 | I96: =IF(OR(I94="O",I94="A"),"O ",VALUE(I88)) -> 0.37430556 | ... AF96: =IF(OR(AF94="O",AF94="A"),"O ",VALUE(AF88)) -> 0.37916667
A97: E | B97: 0.58333333
A98: N | B98: 0.83333333
A99: GS | B99: 0.375
A100: Late | B100: =IF(OR(B94="O",B94="A"),0,VALUE(B91)) -> 0.00625 | C100: =IF(OR(C94="O",C94="A"),0,VALUE(C91)) -> 0 | D100: =IF(OR(D94="O",D94="A"),0,VALUE(D91)) -> 0 | E100: =IF(OR(E94="O",E94="A"),0,VALUE(E91)) -> 0.0069444444 | F100: =IF(OR(F94="O",F94="A"),0,VALUE(F91)) -> 0 | G100: =IF(OR(G94="O",G94="A"),0,VALUE(G91)) -> 0 | H100: =IF(OR(H94="O",H94="A"),0,VALUE(H91)) -> 0 | I100: =IF(OR(I94="O",I94="A"),0,VALUE(I91)) -> 0 | ... AF100: =IF(OR(AF94="O",AF94="A"),0,VALUE(AF91)) -> 0.0041666667 | AH100: =SUM(B100:AF100) -> 0.086805556
B101: =IF(OR(B94="O",B94="A"),0,VALUE(B90)) -> 0.32847222 | C101: =IF(OR(C94="O",C94="A"),0,VALUE(C90)) -> 0.34305556 | D101: =IF(OR(D94="O",D94="A"),0,VALUE(D90)) -> 0.34583333 | E101: =IF(OR(E94="O",E94="A"),0,VALUE(E90)) -> 0.33333333 | F101: =IF(OR(F94="O",F94="A"),0,VALUE(F90)) -> 0 | G101: =IF(OR(G94="O",G94="A"),0,VALUE(G90)) -> 0.34236111 | H101: =IF(OR(H94="O",H94="A"),0,VALUE(H90)) -> 0.34791667 | I101: =IF(OR(I94="O",I94="A"),0,VALUE(I90)) -> 0.33958333 | ... AF101: =IF(OR(AF94="O",AF94="A"),0,VALUE(AF90)) -> 0.33611111 | AH101: =SUM(B101:AF101) -> 8.7708333
A105: =Entry!A8 -> DR. RAHUL SINGH | H105: Total Work Duration: | L105: =AH121 -> 8.7833333 | M105: Hrs. | N105: Total OT: | P105: 0 | Q105: Hrs | R105: Present: | T105: =AI107 -> 26 | U105: Absent: | W105: =AI108 -> 0 | X105: WeeklyOff: | Z105: =AI109 -> 5 | AA105: Holidays: 0 Leaves Taken:0
H106: Late By Hrs: | K106: =AH120 -> 0.10416667 | L106: Late By Days: | N106: 0
A107: Status | B107: =IF(B114="M","P",IF(B114="E","P",IF(B114="N","P",IF(B114="GS","P",IF(B114="O","O","A"))))) -> P | C107: =IF(C114="M","P",IF(C114="E","P",IF(C114="N","P",IF(C114="GS","P",IF(C114="O","O","A"))))) -> P | D107: =IF(D114="M","P",IF(D114="E","P",IF(D114="N","P",IF(D114="GS","P",IF(D114="O","O","A"))))) -> P | E107: =IF(E114="M","P",IF(E114="E","P",IF(E114="N","P",IF(E114="GS","P",IF(E114="O","O","A"))))) -> P | F107: =IF(F114="M","P",IF(F114="E","P",IF(F114="N","P",IF(F114="GS","P",IF(F114="O","O","A"))))) -> O | G107: =IF(G114="M","P",IF(G114="E","P",IF(G114="N","P",IF(G114="GS","P",IF(G114="O","O","A"))))) -> P | H107: =IF(H114="M","P",IF(H114="E","P",IF(H114="N","P",IF(H114="GS","P",IF(H114="O","O","A"))))) -> P | I107: =IF(I114="M","P",IF(I114="E","P",IF(I114="N","P",IF(I114="GS","P",IF(I114="O","O","A"))))) -> P | ... AF107: =IF(AF114="M","P",IF(AF114="E","P",IF(AF114="N","P",IF(AF114="GS","P",IF(AF114="O","O","A"))))) -> P | AH107: present | AI107: =COUNTIF(B107:AF107,"P") -> 26
A108: InTime | B108: =IF(B114="M",TEXT(7.8/24+RAND()*(8.3/24-7.8/24),"HH:MM"),(IF(B114="E",TEXT(13.8/24+RAND()*(14.3/24-13.8/24),"HH:MM"),IF(B114="GS",TEXT(8.8/24+RAND()*(9.3/24-8.8/24),"HH:MM"),IF(B114="N",TEXT(19.8/24+RAND()*(20.3/24-19.8/24),"HH:MM"),""))))) -> 09:14 | C108: =IF(C114="M",TEXT(7.8/24+RAND()*(8.3/24-7.8/24),"HH:MM"),(IF(C114="E",TEXT(13.8/24+RAND()*(14.3/24-13.8/24),"HH:MM"),IF(C114="GS",TEXT(8.8/24+RAND()*(9.3/24-8.8/24),"HH:MM"),IF(C114="N",TEXT(19.8/24+RAND()*(20.3/24-19.8/24),"HH:MM"),""))))) -> 09:14 | D108: =IF(D114="M",TEXT(7.8/24+RAND()*(8.3/24-7.8/24),"HH:MM"),(IF(D114="E",TEXT(13.8/24+RAND()*(14.3/24-13.8/24),"HH:MM"),IF(D114="GS",TEXT(8.8/24+RAND()*(9.3/24-8.8/24),"HH:MM"),IF(D114="N",TEXT(19.8/24+RAND()*(20.3/24-19.8/24),"HH:MM"),""))))) -> 09:04 | E108: =IF(E114="M",TEXT(7.8/24+RAND()*(8.3/24-7.8/24),"HH:MM"),(IF(E114="E",TEXT(13.8/24+RAND()*(14.3/24-13.8/24),"HH:MM"),IF(E114="GS",TEXT(8.8/24+RAND()*(9.3/24-8.8/24),"HH:MM"),IF(E114="N",TEXT(19.8/24+RAND()*(20.3/24-19.8/24),"HH:MM"),""))))) -> 08:50 | F108: =IF(F114="M",TEXT(7.8/24+RAND()*(8.3/24-7.8/24),"HH:MM"),(IF(F114="E",TEXT(13.8/24+RAND()*(14.3/24-13.8/24),"HH:MM"),IF(F114="GS",TEXT(8.8/24+RAND()*(9.3/24-8.8/24),"HH:MM"),IF(F114="N",TEXT(19.8/24+RAND()*(20.3/24-19.8/24),"HH:MM"),""))))) | G108: =IF(G114="M",TEXT(7.8/24+RAND()*(8.3/24-7.8/24),"HH:MM"),(IF(G114="E",TEXT(13.8/24+RAND()*(14.3/24-13.8/24),"HH:MM"),IF(G114="GS",TEXT(8.8/24+RAND()*(9.3/24-8.8/24),"HH:MM"),IF(G114="N",TEXT(19.8/24+RAND()*(20.3/24-19.8/24),"HH:MM"),""))))) -> 09:14 | H108: =IF(H114="M",TEXT(7.8/24+RAND()*(8.3/24-7.8/24),"HH:MM"),(IF(H114="E",TEXT(13.8/24+RAND()*(14.3/24-13.8/24),"HH:MM"),IF(H114="GS",TEXT(8.8/24+RAND()*(9.3/24-8.8/24),"HH:MM"),IF(H114="N",TEXT(19.8/24+RAND()*(20.3/24-19.8/24),"HH:MM"),""))))) -> 08:54 | I108: =IF(I114="M",TEXT(7.8/24+RAND()*(8.3/24-7.8/24),"HH:MM"),(IF(I114="E",TEXT(13.8/24+RAND()*(14.3/24-13.8/24),"HH:MM"),IF(I114="GS",TEXT(8.8/24+RAND()*(9.3/24-8.8/24),"HH:MM"),IF(I114="N",TEXT(19.8/24+RAND()*(20.3/24-19.8/24),"HH:MM"),""))))) -> 08:56 | ... AF108: =IF(AF114="M",TEXT(7.8/24+RAND()*(8.3/24-7.8/24),"HH:MM"),(IF(AF114="E",TEXT(13.8/24+RAND()*(14.3/24-13.8/24),"HH:MM"),IF(AF114="GS",TEXT(8.8/24+RAND()*(9.3/24-8.8/24),"HH:MM"),IF(AF114="N",TEXT(19.8/24+RAND()*(20.3/24-19.8/24),"HH:MM"),""))))) -> 08:53 | AH108: absent | AI108: =COUNTIF(B107:AF107,"A") -> 0
A109: OutTime | B109: =IF(B114="M",TEXT(17/24+RAND()*(17.3/24-17/24),"HH:MM"),(IF(B114="E",TEXT(20/24+RAND()*(20.3/24-20/24),"HH:MM"),IF(B114="N",TEXT(8/24+RAND()*(8.3/24-8/24),"HH:MM"),IF(B114="GS",TEXT(17/24+RAND()*(17.3/24-17/24),"HH:MM"),""))))) -> 17:02 | C109: =IF(C114="M",TEXT(17/24+RAND()*(17.3/24-17/24),"HH:MM"),(IF(C114="E",TEXT(20/24+RAND()*(20.3/24-20/24),"HH:MM"),IF(C114="N",TEXT(8/24+RAND()*(8.3/24-8/24),"HH:MM"),IF(C114="GS",TEXT(17/24+RAND()*(17.3/24-17/24),"HH:MM"),""))))) -> 17:12 | D109: =IF(D114="M",TEXT(17/24+RAND()*(17.3/24-17/24),"HH:MM"),(IF(D114="E",TEXT(20/24+RAND()*(20.3/24-20/24),"HH:MM"),IF(D114="N",TEXT(8/24+RAND()*(8.3/24-8/24),"HH:MM"),IF(D114="GS",TEXT(17/24+RAND()*(17.3/24-17/24),"HH:MM"),""))))) -> 17:01 | E109: =IF(E114="M",TEXT(17/24+RAND()*(17.3/24-17/24),"HH:MM"),(IF(E114="E",TEXT(20/24+RAND()*(20.3/24-20/24),"HH:MM"),IF(E114="N",TEXT(8/24+RAND()*(8.3/24-8/24),"HH:MM"),IF(E114="GS",TEXT(17/24+RAND()*(17.3/24-17/24),"HH:MM"),""))))) -> 17:10 | F109: =IF(F114="M",TEXT(17/24+RAND()*(17.3/24-17/24),"HH:MM"),(IF(F114="E",TEXT(20/24+RAND()*(20.3/24-20/24),"HH:MM"),IF(F114="N",TEXT(8/24+RAND()*(8.3/24-8/24),"HH:MM"),IF(F114="GS",TEXT(17/24+RAND()*(17.3/24-17/24),"HH:MM"),""))))) | G109: =IF(G114="M",TEXT(17/24+RAND()*(17.3/24-17/24),"HH:MM"),(IF(G114="E",TEXT(20/24+RAND()*(20.3/24-20/24),"HH:MM"),IF(G114="N",TEXT(8/24+RAND()*(8.3/24-8/24),"HH:MM"),IF(G114="GS",TEXT(17/24+RAND()*(17.3/24-17/24),"HH:MM"),""))))) -> 17:16 | H109: =IF(H114="M",TEXT(17/24+RAND()*(17.3/24-17/24),"HH:MM"),(IF(H114="E",TEXT(20/24+RAND()*(20.3/24-20/24),"HH:MM"),IF(H114="N",TEXT(8/24+RAND()*(8.3/24-8/24),"HH:MM"),IF(H114="GS",TEXT(17/24+RAND()*(17.3/24-17/24),"HH:MM"),""))))) -> 17:01 | I109: =IF(I114="M",TEXT(17/24+RAND()*(17.3/24-17/24),"HH:MM"),(IF(I114="E",TEXT(20/24+RAND()*(20.3/24-20/24),"HH:MM"),IF(I114="N",TEXT(8/24+RAND()*(8.3/24-8/24),"HH:MM"),IF(I114="GS",TEXT(17/24+RAND()*(17.3/24-17/24),"HH:MM"),""))))) -> 17:17 | ... AF109: =IF(AF114="M",TEXT(17/24+RAND()*(17.3/24-17/24),"HH:MM"),(IF(AF114="E",TEXT(20/24+RAND()*(20.3/24-20/24),"HH:MM"),IF(AF114="N",TEXT(8/24+RAND()*(8.3/24-8/24),"HH:MM"),IF(AF114="GS",TEXT(17/24+RAND()*(17.3/24-17/24),"HH:MM"),""))))) -> 17:17 | AH109: WeekOFF | AI109: =COUNTIF(B114:AF114,"O") -> 5
A110: Duration | B110: =IF(B114="M",TEXT(B109-B108,"H:MM"),IF(B114="E",TEXT(B109-B108,"H:MM"),IF(B114="N",TEXT(B109+24-B108+30,"H:MM"),IF(B114="GS",TEXT(B109-B108,"H:MM"),"")))) -> 7:48 | C110: =IF(C114="M",TEXT(C109-C108,"H:MM"),IF(C114="E",TEXT(C109-C108,"H:MM"),IF(C114="N",TEXT(C109+24-C108+30,"H:MM"),IF(C114="GS",TEXT(C109-C108,"H:MM"),"")))) -> 7:58 | D110: =IF(D114="M",TEXT(D109-D108,"H:MM"),IF(D114="E",TEXT(D109-D108,"H:MM"),IF(D114="N",TEXT(D109+24-D108+30,"H:MM"),IF(D114="GS",TEXT(D109-D108,"H:MM"),"")))) -> 7:57 | E110: =IF(E114="M",TEXT(E109-E108,"H:MM"),IF(E114="E",TEXT(E109-E108,"H:MM"),IF(E114="N",TEXT(E109+24-E108+30,"H:MM"),IF(E114="GS",TEXT(E109-E108,"H:MM"),"")))) -> 8:20 | F110: =IF(F114="M",TEXT(F109-F108,"H:MM"),IF(F114="E",TEXT(F109-F108,"H:MM"),IF(F114="N",TEXT(F109+24-F108+30,"H:MM"),IF(F114="GS",TEXT(F109-F108,"H:MM"),"")))) | G110: =IF(G114="M",TEXT(G109-G108,"H:MM"),IF(G114="E",TEXT(G109-G108,"H:MM"),IF(G114="N",TEXT(G109+24-G108+30,"H:MM"),IF(G114="GS",TEXT(G109-G108,"H:MM"),"")))) -> 8:02 | H110: =IF(H114="M",TEXT(H109-H108,"H:MM"),IF(H114="E",TEXT(H109-H108,"H:MM"),IF(H114="N",TEXT(H109+24-H108+30,"H:MM"),IF(H114="GS",TEXT(H109-H108,"H:MM"),"")))) -> 8:07 | I110: =IF(I114="M",TEXT(I109-I108,"H:MM"),IF(I114="E",TEXT(I109-I108,"H:MM"),IF(I114="N",TEXT(I109+24-I108+30,"H:MM"),IF(I114="GS",TEXT(I109-I108,"H:MM"),"")))) -> 8:21 | ... AF110: =IF(AF114="M",TEXT(AF109-AF108,"H:MM"),IF(AF114="E",TEXT(AF109-AF108,"H:MM"),IF(AF114="N",TEXT(AF109+24-AF108+30,"H:MM"),IF(AF114="GS",TEXT(AF109-AF108,"H:MM"),"")))) -> 8:24 | AH110: late by days | AI110: =COUNTIF(B111:AF111,(B111:AF111)>0) -> 0
A111: Late By | B111: =IF(AND(B114="GS",B116>$B$19),TEXT(B116-$B$19,"HH:MM"),IF(AND(B114="M",B116>$B$15),TEXT(B116-$B$15,"HH:MM"),IF(AND(B114="E",B116>$B$17),TEXT(B116-$B$17,"HH:MM"),IF(AND(B114="N",B116>$B$18),TEXT(B116-$B$18,"HH:MM"),IF(OR(B114="O",B114="A"),"",0))))) -> 00:14 | C111: =IF(AND(C114="GS",C116>$B$19),TEXT(C116-$B$19,"HH:MM"),IF(AND(C114="M",C116>$B$15),TEXT(C116-$B$15,"HH:MM"),IF(AND(C114="E",C116>$B$17),TEXT(C116-$B$17,"HH:MM"),IF(AND(C114="N",C116>$B$18),TEXT(C116-$B$18,"HH:MM"),IF(OR(C114="O",C114="A"),"",0))))) -> 00:14 | D111: =IF(AND(D114="GS",D116>$B$19),TEXT(D116-$B$19,"HH:MM"),IF(AND(D114="M",D116>$B$15),TEXT(D116-$B$15,"HH:MM"),IF(AND(D114="E",D116>$B$17),TEXT(D116-$B$17,"HH:MM"),IF(AND(D114="N",D116>$B$18),TEXT(D116-$B$18,"HH:MM"),IF(OR(D114="O",D114="A"),"",0))))) -> 00:04 | E111: =IF(AND(E114="GS",E116>$B$19),TEXT(E116-$B$19,"HH:MM"),IF(AND(E114="M",E116>$B$15),TEXT(E116-$B$15,"HH:MM"),IF(AND(E114="E",E116>$B$17),TEXT(E116-$B$17,"HH:MM"),IF(AND(E114="N",E116>$B$18),TEXT(E116-$B$18,"HH:MM"),IF(OR(E114="O",E114="A"),"",0))))) -> 0 | F111: =IF(AND(F114="GS",F116>$B$19),TEXT(F116-$B$19,"HH:MM"),IF(AND(F114="M",F116>$B$15),TEXT(F116-$B$15,"HH:MM"),IF(AND(F114="E",F116>$B$17),TEXT(F116-$B$17,"HH:MM"),IF(AND(F114="N",F116>$B$18),TEXT(F116-$B$18,"HH:MM"),IF(OR(F114="O",F114="A"),"",0))))) | G111: =IF(AND(G114="GS",G116>$B$19),TEXT(G116-$B$19,"HH:MM"),IF(AND(G114="M",G116>$B$15),TEXT(G116-$B$15,"HH:MM"),IF(AND(G114="E",G116>$B$17),TEXT(G116-$B$17,"HH:MM"),IF(AND(G114="N",G116>$B$18),TEXT(G116-$B$18,"HH:MM"),IF(OR(G114="O",G114="A"),"",0))))) -> 00:14 | H111: =IF(AND(H114="GS",H116>$B$19),TEXT(H116-$B$19,"HH:MM"),IF(AND(H114="M",H116>$B$15),TEXT(H116-$B$15,"HH:MM"),IF(AND(H114="E",H116>$B$17),TEXT(H116-$B$17,"HH:MM"),IF(AND(H114="N",H116>$B$18),TEXT(H116-$B$18,"HH:MM"),IF(OR(H114="O",H114="A"),"",0))))) -> 0 | I111: =IF(AND(I114="GS",I116>$B$19),TEXT(I116-$B$19,"HH:MM"),IF(AND(I114="M",I116>$B$15),TEXT(I116-$B$15,"HH:MM"),IF(AND(I114="E",I116>$B$17),TEXT(I116-$B$17,"HH:MM"),IF(AND(I114="N",I116>$B$18),TEXT(I116-$B$18,"HH:MM"),IF(OR(I114="O",I114="A"),"",0))))) -> 0 | ... AF111: =IF(AND(AF114="GS",AF116>$B$19),TEXT(AF116-$B$19,"HH:MM"),IF(AND(AF114="M",AF116>$B$15),TEXT(AF116-$B$15,"HH:MM"),IF(AND(AF114="E",AF116>$B$17),TEXT(AF116-$B$17,"HH:MM"),IF(AND(AF114="N",AF116>$B$18),TEXT(AF116-$B$18,"HH:MM"),IF(OR(AF114="O",AF114="A"),"",0))))) -> 0
A112: Early By
A113: OT
A114: Shift | B114: =Entry!B8 -> GS | C114: =Entry!C8 -> GS | D114: =Entry!D8 -> GS | E114: =Entry!E8 -> GS | F114: =Entry!F8 -> O | G114: =Entry!G8 -> GS | H114: =Entry!H8 -> GS | I114: =Entry!I8 -> GS | ... AF114: =Entry!AF8 -> GS
A115: M | B115: 0.33333333
B116: =IF(OR(B114="O",B114="A"),"O ",VALUE(B108)) -> 0.38472222 | C116: =IF(OR(C114="O",C114="A"),"O ",VALUE(C108)) -> 0.38472222 | D116: =IF(OR(D114="O",D114="A"),"O ",VALUE(D108)) -> 0.37777778 | E116: =IF(OR(E114="O",E114="A"),"O ",VALUE(E108)) -> 0.36805556 | F116: =IF(OR(F114="O",F114="A"),"O ",VALUE(F108)) -> O | G116: =IF(OR(G114="O",G114="A"),"O ",VALUE(G108)) -> 0.38472222 | H116: =IF(OR(H114="O",H114="A"),"O ",VALUE(H108)) -> 0.37083333 | I116: =IF(OR(I114="O",I114="A"),"O ",VALUE(I108)) -> 0.37222222 | ... AF116: =IF(OR(AF114="O",AF114="A"),"O ",VALUE(AF108)) -> 0.37013889
...
