Workbook

Sheet Entry
A2: Days | B2: 1 W | C2: 2 TH | D2: 3 F | E2: 4 ST | F2: 5 S | G2: M | H2: 7 T | I2: 8 W | J2: 9 TH | K2: 10 F | L2: 11 ST | M2: 12 S | N2: 13 M | O2: 14 T | P2: 15 W | Q2: 16 TH | R2: 17 F | S2: 18 ST | T2: 19 S | U2: 20 M | V2: 21 T | W2: 22 W | X2: 23 TH | Y2: 24 F | Z2: 25 ST | AA2: 26 S | AB2: 27 M | AC2: 28 T | AD2: 29 W | AE2: 30 TH | AF2: 31 F
A3: DR. HIRAMAN DAS BANJARE | B3: GS | C3: GS | D3: GS | E3: GS | F3: O | G3: GS | H3: GS | I3: GS | J3: GS | K3: GS | L3: GS | M3: O | N3: GS | O3: O | P3: GS | Q3: GS | R3: GS | S3: GS | T3: O | U3: GS | V3: GS | W3: GS | X3: GS | Y3: GS | Z3: GS | AA3: O | AB3: GS | AC3: GS | AD3: GS | AE3: GS | AF3: GS
A4: DR. ASHWANI PRADHAN | B4: GS | C4: GS | D4: GS | E4: GS | F4: O | G4: GS | H4: GS | I4: GS | J4: GS | K4: GS | L4: GS | M4: O | N4: GS | O4: O | P4: GS | Q4: GS | R4: GS | S4: GS | T4: O | U4: GS | V4: GS | W4: GS | X4: GS | Y4: GS | Z4: GS | AA4: O | AB4: GS | AC4: GS | AD4: GS | AE4: GS | AF4: GS
A5: DR. PANKAJ VERMA | B5: GS | C5: GS | D5: GS | E5: GS | F5: O | G5: GS | H5: GS | I5: GS | J5: GS | K5: GS | L5: GS | M5: O | N5: GS | O5: O | P5: GS | Q5: GS | R5: GS | S5: GS | T5: O | U5: GS | V5: GS | W5: GS | X5: GS | Y5: GS | Z5: GS | AA5: O | AB5: GS | AC5: GS | AD5: GS | AE5: GS | AF5: GS
A6: DR. AKANKSHA PURI | B6: GS | C6: GS | D6: GS | E6: GS | F6: O | G6: GS | H6: GS | I6: GS | J6: GS | K6: GS | L6: GS | M6: O | N6: GS | O6: O | P6: GS | Q6: GS | R6: GS | S6: GS | T6: O | U6: GS | V6: GS | W6: GS | X6: GS | Y6: GS | Z6: GS | AA6: O | AB6: GS | AC6: GS | AD6: GS | AE6: GS | AF6: GS
A7: DR. SANJANA DEBNATH | B7: GS | C7: GS | D7: GS | E7: GS | F7: O | G7: GS | H7: GS | I7: GS | J7: GS | K7: GS | L7: GS | M7: O | N7: GS | O7: O | P7: GS | Q7: GS | R7: GS | S7: GS | T7: O | U7: GS | V7: GS | W7: GS | X7: GS | Y7: GS | Z7: GS | AA7: O | AB7: GS | AC7: GS | AD7: GS | AE7: GS | AF7: GS
A8: DR. RAHUL SINGH | B8: GS | C8: GS | D8: GS | E8: GS | F8: O | G8: GS | H8: GS | I8: GS | J8: GS | K8: GS | L8: GS | M8: O | N8: GS | O8: O | P8: GS | Q8: GS | R8: GS | S8: GS | T8: O | U8: GS | V8: GS | W8: GS | X8: GS | Y8: GS | Z8: GS | AA8: O | AB8: GS | AC8: GS | AD8: GS | AE8: GS | AF8: GS
A9: DR. SONIA SINGH | B9: GS | C9: GS | D9: GS | E9: GS | F9: O | G9: GS | H9: GS | I9: GS | J9: GS | K9: GS | L9: GS | M9: O | N9: GS | O9: O | P9: GS | Q9: GS | R9: GS | S9: GS | T9: O | U9: GS | V9: GS | W9: GS | X9: GS | Y9: GS | Z9: GS | AA9: O | AB9: GS | AC9: GS | AD9: GS | AE9: GS | AF9: GS
A10: DR. JAYA SINGH KHARSON | B10: GS | C10: GS | D10: GS | E10: GS | F10: O | G10: GS | H10: GS | I10: GS | J10: GS | K10: GS | L10: GS | M10: O | N10: GS | O10: O | P10: GS | Q10: GS | R10: GS | S10: GS | T10: O | U10: GS | V10: GS | W10: GS | X10: GS | Y10: GS | Z10: GS | AA10: O | AB10: GS | AC10: GS | AD10: GS | AE10: GS | AF10: GS
A11: DR. RAMPUKAR PATAR | B11: GS | C11: GS | D11: GS | E11: GS | F11: O | G11: GS | H11: GS | I11: GS | J11: GS | K11: GS | L11: GS | M11: O | N11: GS | O11: O | P11: GS | Q11: GS | R11: GS | S11: GS | T11: O | U11: GS | V11: GS | W11: GS | X11: GS | Y11: GS | Z11: GS | AA11: O | AB11: GS | AC11: GS | AD11: GS | AE11: GS | AF11: GS
A12: DR. ABHISHEK SHARMA | B12: M | C12: M | D12: M | E12: M | F12: O | G12: M | H12: E | I12: E | J12: E | K12: M | L12: M | M12: O | N12: M | O12: O | P12: E | Q12: M | R12: M | S12: M | T12: O | U12: E | V12: E | W12: E | X12: N | Y12: N | Z12: N | AA12: O | AB12: E | AC12: E | AD12: E | AE12: M | AF12: M
A13: DR. VINITA MAYANK GUPTA | B13: N | C13: N | D13: M | E13: M | F13: M | G13: O | H13: E | I13: E | J13: E | K13: N | L13: N | M13: N | N13: O | O13: O | P13: E | Q13: E | R13: M | S13: M | T13: M | U13: O | V13: N | W13: N | X13: N | Y13: M | Z13: M | AA13: O | AB13: O | AC13: E | AD13: E | AE13: E | AF13: N
... A40: MS. LATA CHOUHAN | B40: E | C40: E | D40: O | E40: E | F40: E | G40: E | H40: E | I40: E | J40: E | K40: O | L40: E | M40: E | N40: E | O40: O | P40: E | Q40: E | R40: E | S40: O | T40: E | U40: E | V40: E | W40: E | X40: E | Y40: E | Z40: O | AA40: O | AB40: E | AC40: E | AD40: E | AE40: E | AF40: E
A41: MR. GOUTAM YADAV | B41: M | C41: M | D41: M | E41: M | F41: M | G41: M | H41: O | I41: M | J41: M | K41: M | L41: M | M41: M | N41: M | O41: O | P41: M | Q41: M | R41: M | S41: M | T41: M | U41: M | V41: O | W41: M | X41: M | Y41: M | Z41: M | AA41: O | AB41: M | AC41: O | AD41: M | AE41: M
A42: MS. VANDANA SIHANI | B42: M | C42: M | D42: M | E42: M | F42: M | G42: M | H42: O | I42: M | J42: M | K42: M | L42: M | M42: M | N42: M | O42: O | P42: M | Q42: M | R42: M | S42: M | T42: M | U42: M | V42: O | W42: M | X42: M | Y42: M | Z42: M | AA42: O | AB42: M | AC42: O | AD42: M | AE42: M
A43: MR. PITAMBER SIDAR | B43: M | C43: M | D43: M | E43: M | F43: M | G43: M | H43: O | I43: M | J43: M | K43: M | L43: M | M43: M | N43: M | O43: O | P43: M | Q43: M | R43: M | S43: M | T43: M | U43: M | V43: O | W43: M | X43: M | Y43: M | Z43: M | AA43: O | AB43: M | AC43: O | AD43: M | AE43: M
A44: MR. NAPEEL SIDAR | B44: M | C44: M | D44: M | E44: M | F44: M | G44: M | H44: O | I44: M | J44: M | K44: M | L44: M | M44: M | N44: M | O44: O | P44: M | Q44: M | R44: M | S44: M | T44: M | U44: M | V44: O | W44: M | X44: M | Y44: M | Z44: M | AA44: O | AB44: M | AC44: O | AD44: M | AE44: M
A45: MR. SURAJ JANGDE | B45: E | C45: E | D45: M | E45: O | F45: M | G45: E | H45: E | I45: E | J45: E | K45: M | L45: O | M45: M | N45: E | O45: O | P45: E | Q45: M | R45: M | S45: O | T45: M | U45: E | V45: E | W45: E | X45: E | Y45: M | Z45: O | AA45: O | AB45: M | AC45: M | AD45: M | AE45: E | AF45: E
A46: MR. UMESH GUPTA | B46: M | C46: M | D46: M | E46: M | F46: M | G46: E | H46: O | I46: M | J46: M | K46: M | L46: E | M46: E | N46: M | O46: O | P46: E | Q46: E | R46: E | S46: M | T46: M | U46: M | V46: O | W46: M | X46: M | Y46: E | Z46: E | AA46: O | AB46: E | AC46: O | AD46: M | AE46: M | AF46: M
A47: MR. HARSH PRADHAN | B47: M | C47: M | D47: M | E47: E | F47: O | G47: M | H47: M | I47: E | J47: E | K47: E | L47: M | M47: O | N47: E | O47: O | P47: E | Q47: M | R47: M | S47: M | T47: O | U47: M | V47: E | W47: E | X47: E | Y47: E | Z47: M | AA47: O | AB47: M | AC47: E | AD47: E | AE47: M | AF47: M
A48: MR. NANDKISHOR | B48: M | C48: M | D48: M | E48: M | F48: M | G48: M | H48: O | I48: M | J48: M | K48: M | L48: M | M48: M | N48: M | O48: O | P48: M | Q48: M | R48: M | S48: M | T48: M | U48: M | V48: O | W48: M | X48: M | Y48: M | Z48: M | AA48: O | AB48: M | AC48: O | AD48: M | AE48: M | AF48: M
A49: MS. SONKUNWAR GHRITLAHRE | B49: M | C49: O | D49: M | E49: M | F49: M | G49: M | H49: M | I49: M | J49: O | K49: M | L49: M | M49: M | N49: M | O49: O | P49: M | Q49: O | R49: M | S49: M | T49: M | U49: M | V49: M | W49: M | X49: O | Y49: M | Z49: M | AA49: O | AB49: M | AC49: M | AD49: M | AE49: O | AF49: M
A50: MR. DEBANAND MOHANTA | B50: O | C50: M | D50: M | E50: M | F50: M | G50: M | H50: M | I50: O | J50: M | K50: M | L50: M | M50: M | N50: M | O50: O | P50: O | Q50: M | R50: M | S50: M | T50: M | U50: M | V50: M | W50: O | X50: M | Y50: M | Z50: M | AA50: O | AB50: M | AC50: M | AD50: O | AE50: M | AF50: M
A51: MS. MAMTA KANDEL | B51: M | C51: M | D51: O | E51: M | F51: M | G51: M | H51: M | I51: M | J51: M | K51: O | L51: M | M51: M | N51: M | O51: O | P51: M | Q51: M | R51: O | S51: M | T51: M | U51: M | V51: M | W51: M | X51: M | Y51: O | Z51: M | AA51: O | AB51: M | AC51: M | AD51: M | AE51: M | AF51: O
A52: MR. HARISH GUPTA | B52: M | C52: M | D52: M | E52: M | F52: O | G52: M | H52: M | I52: M | J52: M | K52: M | L52: M | M52: O | N52: M | O52: O | P52: M | Q52: M | R52: M | S52: M | T52: O | U52: M | V52: M | W52: M | X52: M | Y52: M | Z52: M | AA52: O | AB52: M | AC52: M | AD52: M | AE52: M | AF52: M
A53: MR. PRAVEEN BHOY | B53: M | C53: M | D53: M | E53: M | F53: M | G53: O | H53: M | I53: M | J53: M | K53: M | L53: M | M53: M | N53: O | O53: O | P53: M | Q53: M | R53: M | S53: M | T53: M | U53: O | V53: M | W53: M | X53: M | Y53: M | Z53: M | AA53: O | AB53: O | AC53: M | AD53: M | AE53: M | AF53: M
A54: MR. AKASH GUPTA | B54: M | C54: M | D54: M | E54: M | F54: M | G54: M | H54: O | I54: M | J54: M | K54: M | L54: M | M54: M | N54: M | O54: O | P54: M | Q54: M | R54: M | S54: M | T54: M | U54: M | V54: O | W54: M | X54: M | Y54: M | Z54: M | AA54: O | AB54: M | AC54: O | AD54: M | AE54: M | AF54: M
A55: MS. ABHA RANI | B55: O | C55: M | D55: M | E55: M | F55: M | G55: M | H55: M | I55: O | J55: M | K55: M | L55: M | M55: M | N55: M | O55: O | P55: O | Q55: M | R55: M | S55: M | T55: M | U55: M | V55: M | W55: O | X55: M | Y55: M | Z55: M | AA55: O | AB55: M | AC55: M | AD55: O | AE55: M | AF55: M
A56: MS. SUNITA SIDAR | B56: M | C56: M | D56: M | E56: O | F56: M | G56: M | H56: M | I56: M | J56: M | K56: M | L56: O | M56: M | N56: M | O56: O | P56: M | Q56: M | R56: M | S56: O | T56: M | U56: M | V56: M | W56: M | X56: M | Y56: M | Z56: O | AA56: O | AB56: M | AC56: M | AD56: M | AE56: M | AF56: M
... A83: MR. DEV KUMAR NAG | B83: GS | C83: GS | D83: GS | E83: GS | F83: O | G83: GS | H83: GS | I83: GS | J83: GS | K83: GS | L83: GS | M83: O | N83: GS | O83: O | P83: GS | Q83: GS | R83: GS | S83: GS | T83: O | U83: GS | V83: GS | W83: GS | X83: GS | Y83: GS | Z83: GS | AA83: O | AB83: GS | AC83: GS | AD83: GS | AE83: GS | AF83: GS

Sheet Main
A1: RAIGARH MEDICAL COLLEGE & HOSPITAL OF AYURVEDA
A3: Days | B3: =Entry!B2 -> 1 W | C3: =Entry!C2 -> 2 TH | D3: =Entry!D2 -> 3 F | E3: =Entry!E2 -> 4 ST | F3: =Entry!F2 -> 5 S | G3: =Entry!G2 -> M | H3: =Entry!H2 -> 7 T | I3: =Entry!I2 -> 8 W | ... AF3: =Entry!AF2 -> 31 F
A4: Department: Default
A5: =Entry!A3 -> DR. HIRAMAN DAS BANJARE | H5: Total Work Duration: | L5: =AH21 -> 8.7791667 | M5: Hrs. | N5: Total OT: | P5: 0 | Q5: Hrs | R5: Present: | T5: =AI7 -> 26 | U5: Absent: | W5: =AI8 -> 0 | X5: WeeklyOff: | Z5: =AI9 -> 5 | AA5: Holidays: 0 Leaves Taken:0
H6: Late By Hrs: | K6: =AH20 -> 0.086805556 | L6: Late By Days: | N6: 0
A7: Status | B7: =IF(B14="M","P",IF(B14="E","P",IF(B14="N","P",IF(B14="GS","P",IF(B14="O","O","A"))))) -> P | C7: =IF(C14="M","P",IF(C14="E","P",IF(C14="N","P",IF(C14="GS","P",IF(C14="O","O","A"))))) -> P | D7: =IF(D14="M","P",IF(D14="E","P",IF(D14="N","P",IF(D14="GS","P",IF(D14="O","O","A"))))) -> P | E7: =IF(E14="M","P",IF(E14="E","P",IF(E14="N","P",IF(E14="GS","P",IF(E14="O","O","A"))))) -> P | F7: =IF(F14="M","P",IF(F14="E","P",IF(F14="N","P",IF(F14="GS","P",IF(F14="O","O","A"))))) -> O | G7: =IF(G14="M","P",IF(G14="E","P",IF(G14="N","P",IF(G14="GS","P",IF(G14="O","O","A"))))) -> P | H7: =IF(H14="M","P",IF(H14="E","P",IF(H14="N","P",IF(H14="GS","P",IF(H14="O","O","A"))))) -> P | I7: =IF(I14="M","P",IF(I14="E","P",IF(I14="N","P",IF(I14="GS","P",IF(I14="O","O","A"))))) -> P | ... AF7: =IF(AF14="M","P",IF(AF14="E","P",IF(AF14="N","P",IF(AF14="GS","P",IF(AF14="O","O","A"))))) -> P | AH7: present | AI7: =COUNTIF(B7:AF7,"P") -> 26
A8: InTime | B8: =IF(B14="M",TEXT(7.8/24+RAND()*(8.3/24-7.8/24),"HH:MM"),(IF(B14="E",TEXT(13.8/24+RAND()*(14.3/24-13.8/24),"HH:MM"),IF(B14="GS",TEXT(8.8/24+RAND()*(9.3/24-8.8/24),"HH:MM"),IF(B14="N",TEXT(19.8/24+RAND()*(20.3/24-19.8/24),"HH:MM"),""))))) -> 09:06 | C8: =IF(C14="M",TEXT(7.8/24+RAND()*(8.3/24-7.8/24),"HH:MM"),(IF(C14="E",TEXT(13.8/24+RAND()*(14.3/24-13.8/24),"HH:MM"),IF(C14="GS",TEXT(8.8/24+RAND()*(9.3/24-8.8/24),"HH:MM"),IF(C14="N",TEXT(19.8/24+RAND()*(20.3/24-19.8/24),"HH:MM"),""))))) -> 09:05 | D8: =IF(D14="M",TEXT(7.8/24+RAND()*(8.3/24-7.8/24),"HH:MM"),(IF(D14="E",TEXT(13.8/24+RAND()*(14.3/24-13.8/24),"HH:MM"),IF(D14="GS",TEXT(8.8/24+RAND()*(9.3/24-8.8/24),"HH:MM"),IF(D14="N",TEXT(19.8/24+RAND()*(20.3/24-19.8/24),"HH:MM"),""))))) -> 09:10 | E8: =IF(E14="M",TEXT(7.8/24+RAND()*(8.3/24-7.8/24),"HH:MM"),(IF(E14="E",TEXT(13.8/24+RAND()*(14.3/24-13.8/24),"HH:MM"),IF(E14="GS",TEXT(8.8/24+RAND()*(9.3/24-8.8/24),"HH:MM"),IF(E14="N",TEXT(19.8/24+RAND()*(20.3/24-19.8/24),"HH:MM"),""))))) -> 09:08 | F8: =IF(F14="M",TEXT(7.8/24+RAND()*(8.3/24-7.8/24),"HH:MM"),(IF(F14="E",TEXT(13.8/24+RAND()*(14.3/24-13.8/24),"HH:MM"),IF(F14="GS",TEXT(8.8/24+RAND()*(9.3/24-8.8/24),"HH:MM"),IF(F14="N",TEXT(19.8/24+RAND()*(20.3/24-19.8/24),"HH:MM"),""))))) | G8: =IF(G14="M",TEXT(7.8/24+RAND()*(8.3/24-7.8/24),"HH:MM"),(IF(G14="E",TEXT(13.8/24+RAND()*(14.3/24-13.8/24),"HH:MM"),IF(G14="GS",TEXT(8.8/24+RAND()*(9.3/24-8.8/24),"HH:MM"),IF(G14="N",TEXT(19.8/24+RAND()*(20.3/24-19.8/24),"HH:MM"),""))))) -> 09:17 | H8: =IF(H14="M",TEXT(7.8/24+RAND()*(8.3/24-7.8/24),"HH:MM"),(IF(H14="E",TEXT(13.8/24+RAND()*(14.3/24-13.8/24),"HH:MM"),IF(H14="GS",TEXT(8.8/24+RAND()*(9.3/24-8.8/24),"HH:MM"),IF(H14="N",TEXT(19.8/24+RAND()*(20.3/24-19.8/24),"HH:MM"),""))))) -> 08:48 | I8: =IF(I14="M",TEXT(7.8/24+RAND()*(8.3/24-7.8/24),"HH:MM"),(IF(I14="E",TEXT(13.8/24+RAND()*(14.3/24-13.8/24),"HH:MM"),IF(I14="GS",TEXT(8.8/24+RAND()*(9.3/24-8.8/24),"HH:MM"),IF(I14="N",TEXT(19.8/24+RAND()*(20.3/24-19.8/24),"HH:MM"),""))))) -> 09:00 | ... AF8: =IF(AF14="M",TEXT(7.8/24+RAND()*(8.3/24-7.8/24),"HH:MM"),(IF(AF14="E",TEXT(13.8/24+RAND()*(14.3/24-13.8/24),"HH:MM"),IF(AF14="GS",TEXT(8.8/24+RAND()*(9.3/24-8.8/24),"HH:MM"),IF(AF14="N",TEXT(19.8/24+RAND()*(20.3/24-19.8/24),"HH:MM"),""))))) -> 08:51 | AH8: absent | AI8: =COUNTIF(B7:AF7,"A") -> 0
A9: OutTime | B9: =IF(B14="M",TEXT(17/24+RAND()*(17.3/24-17/24),"HH:MM"),(IF(B14="E",TEXT(20/24+RAND()*(20.3/24-20/24),"HH:MM"),IF(B14="N",TEXT(8/24+RAND()*(8.3/24-8/24),"HH:MM"),IF(B14="GS",TEXT(17/24+RAND()*(17.3/24-17/24),"HH:MM"),""))))) -> 17:11 | C9: =IF(C14="M",TEXT(17/24+RAND()*(17.3/24-17/24),"HH:MM"),(IF(C14="E",TEXT(20/24+RAND()*(20.3/24-20/24),"HH:MM"),IF(C14="N",TEXT(8/24+RAND()*(8.3/24-8/24),"HH:MM"),IF(C14="GS",TEXT(17/24+RAND()*(17.3/24-17/24),"HH:MM"),""))))) -> 17:00 | D9: =IF(D14="M",TEXT(17/24+RAND()*(17.3/24-17/24),"HH:MM"),(IF(D14="E",TEXT(20/24+RAND()*(20.3/24-20/24),"HH:MM"),IF(D14="N",TEXT(8/24+RAND()*(8.3/24-8/24),"HH:MM"),IF(D14="GS",TEXT(17/24+RAND()*(17.3/24-17/24),"HH:MM"),""))))) -> 17:12 | E9: =IF(E14="M",TEXT(17/24+RAND()*(17.3/24-17/24),"HH:MM"),(IF(E14="E",TEXT(20/24+RAND()*(20.3/24-20/24),"HH:MM"),IF(E14="N",TEXT(8/24+RAND()*(8.3/24-8/24),"HH:MM"),IF(E14="GS",TEXT(17/24+RAND()*(17.3/24-17/24),"HH:MM"),""))))) -> 17:05 | F9: =IF(F14="M",TEXT(17/24+RAND()*(17.3/24-17/24),"HH:MM"),(IF(F14="E",TEXT(20/24+RAND()*(20.3/24-20/24),"HH:MM"),IF(F14="N",TEXT(8/24+RAND()*(8.3/24-8/24),"HH:MM"),IF(F14="GS",TEXT(17/24+RAND()*(17.3/24-17/24),"HH:MM"),""))))) | G9: =IF(G14="M",TEXT(17/24+RAND()*(17.3/24-17/24),"HH:MM"),(IF(G14="E",TEXT(20/24+RAND()*(20.3/24-20/24),"HH:MM"),IF(G14="N",TEXT(8/24+RAND()*(8.3/24-8/24),"HH:MM"),IF(G14="GS",TEXT(17/24+RAND()*(17.3/24-17/24),"HH:MM"),""))))) -> 17:08 | H9: =IF(H14="M",TEXT(17/24+RAND()*(17.3/24-17/24),"HH:MM"),(IF(H14="E",TEXT(20/24+RAND()*(20.3/24-20/24),"HH:MM"),IF(H14="N",TEXT(8/24+RAND()*(8.3/24-8/24),"HH:MM"),IF(H14="GS",TEXT(17/24+RAND()*(17.3/24-17/24),"HH:MM"),""))))) -> 17:02 | I9: =IF(I14="M",TEXT(17/24+RAND()*(17.3/24-17/24),"HH:MM"),(IF(I14="E",TEXT(20/24+RAND()*(20.3/24-20/24),"HH:MM"),IF(I14="N",TEXT(8/24+RAND()*(8.3/24-8/24),"HH:MM"),IF(I14="GS",TEXT(17/24+RAND()*(17.3/24-17/24),"HH:MM"),""))))) -> 17:16 | ... AF9: =IF(AF14="M",TEXT(17/24+RAND()*(17.3/24-17/24),"HH:MM"),(IF(AF14="E",TEXT(20/24+RAND()*(20.3/24-20/24),"HH:MM"),IF(AF14="N",TEXT(8/24+RAND()*(8.3/24-8/24),"HH:MM"),IF(AF14="GS",TEXT(17/24+RAND()*(17.3/24-17/24),"HH:MM"),""))))) -> 17:12 | AH9: WeekOFF | AI9: =COUNTIF(B14:AF14,"O") -> 5
A10: Duration | B10: =IF(B14="M",TEXT(B9-B8,"H:MM"),IF(B14="E",TEXT(B9-B8,"H:MM"),IF(B14="N",TEXT(B9+24-B8+30,"H:MM"),IF(B14="GS",TEXT(B9-B8,"H:MM"),"")))) -> 8:05 | C10: =IF(C14="M",TEXT(C9-C8,"H:MM"),IF(C14="E",TEXT(C9-C8,"H:MM"),IF(C14="N",TEXT(C9+24-C8+30,"H:MM"),IF(C14="GS",TEXT(C9-C8,"H:MM"),"")))) -> 7:55 | D10: =IF(D14="M",TEXT(D9-D8,"H:MM"),IF(D14="E",TEXT(D9-D8,"H:MM"),IF(D14="N",TEXT(D9+24-D8+30,"H:MM"),IF(D14="GS",TEXT(D9-D8,"H:MM"),"")))) -> 8:02 | E10: =IF(E14="M",TEXT(E9-E8,"H:MM"),IF(E14="E",TEXT(E9-E8,"H:MM"),IF(E14="N",TEXT(E9+24-E8+30,"H:MM"),IF(E14="GS",TEXT(E9-E8,"H:MM"),"")))) -> 7:57 | F10: =IF(F14="M",TEXT(F9-F8,"H:MM"),IF(F14="E",TEXT(F9-F8,"H:MM"),IF(F14="N",TEXT(F9+24-F8+30,"H:MM"),IF(F14="GS",TEXT(F9-F8,"H:MM"),"")))) | G10: =IF(G14="M",TEXT(G9-G8,"H:MM"),IF(G14="E",TEXT(G9-G8,"H:MM"),IF(G14="N",TEXT(G9+24-G8+30,"H:MM"),IF(G14="GS",TEXT(G9-G8,"H:MM"),"")))) -> 7:51 | H10: =IF(H14="M",TEXT(H9-H8,"H:MM"),IF(H14="E",TEXT(H9-H8,"H:MM"),IF(H14="N",TEXT(H9+24-H8+30,"H:MM"),IF(H14="GS",TEXT(H9-H8,"H:MM"),"")))) -> 8:14 | I10: =IF(I14="M",TEXT(I9-I8,"H:MM"),IF(I14="E",TEXT(I9-I8,"H:MM"),IF(I14="N",TEXT(I9+24-I8+30,"H:MM"),IF(I14="GS",TEXT(I9-I8,"H:MM"),"")))) -> 8:16 | ... AF10: =IF(AF14="M",TEXT(AF9-AF8,"H:MM"),IF(AF14="E",TEXT(AF9-AF8,"H:MM"),IF(AF14="N",TEXT(AF9+24-AF8+30,"H:MM"),IF(AF14="GS",TEXT(AF9-AF8,"H:MM"),"")))) -> 8:21 | AH10: late by days | AI10: =COUNTIF(B11:AF11,(B11:AF11)>0) -> 0
A11: Late By | B11: =IF(AND(B14="GS",B16>$B$19),TEXT(B16-$B$19,"HH:MM"),IF(AND(B14="M",B16>$B$15),TEXT(B16-$B$15,"HH:MM"),IF(AND(B14="E",B16>$B$17),TEXT(B16-$B$17,"HH:MM"),IF(AND(B14="N",B16>$B$18),TEXT(B16-$B$18,"HH:MM"),IF(OR(B14="O",B14="A"),"",0))))) -> 00:06 | C11: =IF(AND(C14="GS",C16>$B$19),TEXT(C16-$B$19,"HH:MM"),IF(AND(C14="M",C16>$B$15),TEXT(C16-$B$15,"HH:MM"),IF(AND(C14="E",C16>$B$17),TEXT(C16-$B$17,"HH:MM"),IF(AND(C14="N",C16>$B$18),TEXT(C16-$B$18,"HH:MM"),IF(OR(C14="O",C14="A"),"",0))))) -> 00:05 | D11: =IF(AND(D14="GS",D16>$B$19),TEXT(D16-$B$19,"HH:MM"),IF(AND(D14="M",D16>$B$15),TEXT(D16-$B$15,"HH:MM"),IF(AND(D14="E",D16>$B$17),TEXT(D16-$B$17,"HH:MM"),IF(AND(D14="N",D16>$B$18),TEXT(D16-$B$18,"HH:MM"),IF(OR(D14="O",D14="A"),"",0))))) -> 00:10 | E11: =IF(AND(E14="GS",E16>$B$19),TEXT(E16-$B$19,"HH:MM"),IF(AND(E14="M",E16>$B$15),TEXT(E16-$B$15,"HH:MM"),IF(AND(E14="E",E16>$B$17),TEXT(E16-$B$17,"HH:MM"),IF(AND(E14="N",E16>$B$18),TEXT(E16-$B$18,"HH:MM"),IF(OR(E14="O",E14="A"),"",0))))) -> 00:08 | F11: =IF(AND(F14="GS",F16>$B$19),TEXT(F16-$B$19,"HH:MM"),IF(AND(F14="M",F16>$B$15),TEXT(F16-$B$15,"HH:MM"),IF(AND(F14="E",F16>$B$17),TEXT(F16-$B$17,"HH:MM"),IF(AND(F14="N",F16>$B$18),TEXT(F16-$B$18,"HH:MM"),IF(OR(F14="O",F14="A"),"",0))))) | G11: =IF(AND(G14="GS",G16>$B$19),TEXT(G16-$B$19,"HH:MM"),IF(AND(G14="M",G16>$B$15),TEXT(G16-$B$15,"HH:MM"),IF(AND(G14="E",G16>$B$17),TEXT(G16-$B$17,"HH:MM"),IF(AND(G14="N",G16>$B$18),TEXT(G16-$B$18,"HH:MM"),IF(OR(G14="O",G14="A"),"",0))))) -> 00:17 | H11: =IF(AND(H14="GS",H16>$B$19),TEXT(H16-$B$19,"HH:MM"),IF(AND(H14="M",H16>$B$15),TEXT(H16-$B$15,"HH:MM"),IF(AND(H14="E",H16>$B$17),TEXT(H16-$B$17,"HH:MM"),IF(AND(H14="N",H16>$B$18),TEXT(H16-$B$18,"HH:MM"),IF(OR(H14="O",H14="A"),"",0))))) -> 0 | I11: =IF(AND(I14="GS",I16>$B$19),TEXT(I16-$B$19,"HH:MM"),IF(AND(I14="M",I16>$B$15),TEXT(I16-$B$15,"HH:MM"),IF(AND(I14="E",I16>$B$17),TEXT(I16-$B$17,"HH:MM"),IF(AND(I14="N",I16>$B$18),TEXT(I16-$B$18,"HH:MM"),IF(OR(I14="O",I14="A"),"",0))))) -> 0 | ... AF11: =IF(AND(AF14="GS",AF16>$B$19),TEXT(AF16-$B$19,"HH:MM"),IF(AND(AF14="M",AF16>$B$15),TEXT(AF16-$B$15,"HH:MM"),IF(AND(AF14="E",AF16>$B$17),TEXT(AF16-$B$17,"HH:MM"),IF(AND(AF14="N",AF16>$B$18),TEXT(AF16-$B$18,"HH:MM"),IF(OR(AF14="O",AF14="A"),"",0))))) -> 0
A12: Early By
A13: OT
A14: Shift | B14: =Entry!B3 -> GS | C14: =Entry!C3 -> GS | D14: =Entry!D3 -> GS | E14: =Entry!E3 -> GS | F14: =Entry!F3 -> O | G14: =Entry!G3 -> GS | H14: =Entry!H3 -> GS | I14: =Entry!I3 -> GS | ... AF14: =Entry!AF3 -> GS
A15: M | B15: 0.33333333
B16: =IF(OR(B14="O",B14="A"),"O ",VALUE(B8)) -> 0.37916667 | C16: =IF(OR(C14="O",C14="A"),"O ",VALUE(C8)) -> 0.37847222 | D16: =IF(OR(D14="O",D14="A"),"O ",VALUE(D8)) -> 0.38194444 | E16: =IF(OR(E14="O",E14="A"),"O ",VALUE(E8)) -> 0.38055556 | F16: =IF(OR(F14="O",F14="A"),"O ",VALUE(F8)) -> O | G16: =IF(OR(G14="O",G14="A"),"O ",VALUE(G8)) -> 0.38680556 | H16: =IF(OR(H14="O",H14="A"),"O ",VALUE(H8)) -> 0.36666667 | I16: =IF(OR(I14="O",I14="A"),"O ",VALUE(I8)) -> 0.375 | ... AF16: =IF(OR(AF14="O",AF14="A"),"O ",VALUE(AF8)) -> 0.36875
A17: E | B17: 0.58333333
A18: N | B18: 0.83333333
A19: GS | B19: 0.375
A20: Late | B20: =IF(OR(B14="O",B14="A"),0,VALUE(B11)) -> 0.0041666667 | C20: =IF(OR(C14="O",C14="A"),0,VALUE(C11)) -> 0.0034722222 | D20: =IF(OR(D14="O",D14="A"),0,VALUE(D11)) -> 0.0069444444 | E20: =IF(OR(E14="O",E14="A"),0,VALUE(E11)) -> 0.0055555556 | F20: =IF(OR(F14="O",F14="A"),0,VALUE(F11)) -> 0 | G20: =IF(OR(G14="O",G14="A"),0,VALUE(G11)) -> 0.011805556 | H20: =IF(OR(H14="O",H14="A"),0,VALUE(H11)) -> 0 | I20: =IF(OR(I14="O",I14="A"),0,VALUE(I11)) -> 0 | ... AF20: =IF(OR(AF14="O",AF14="A"),0,VALUE(AF11)) -> 0 | AH20: =SUM(B20:AF20) -> 0.086805556
B21: =IF(OR(B14="O",B14="A"),0,VALUE(B10)) -> 0.33680556 | C21: =IF(OR(C14="O",C14="A"),0,VALUE(C10)) -> 0.32986111 | D21: =IF(OR(D14="O",D14="A"),0,VALUE(D10)) -> 0.33472222 | E21: =IF(OR(E14="O",E14="A"),0,VALUE(E10)) -> 0.33125 | F21: =IF(OR(F14="O",F14="A"),0,VALUE(F10)) -> 0 | G21: =IF(OR(G14="O",G14="A"),0,VALUE(G10)) -> 0.32708333 | H21: =IF(OR(H14="O",H14="A"),0,VALUE(H10)) -> 0.34305556 | I21: =IF(OR(I14="O",I14="A"),0,VALUE(I10)) -> 0.34444444 | ... AF21: =IF(OR(AF14="O",AF14="A"),0,VALUE(AF10)) -> 0.34791667 | AH21: =SUM(B21:AF21) -> 8.7791667
A24: =Entry!A4 -> DR. ASHWANI PRADHAN | H24: Total Work Duration: | L24: =AH40 -> 8.7451389 | M24: Hrs. | N24: Total OT: | P24: 0 | Q24: Hrs | R24: Present: | T24: =AI26 -> 26 | U24: Absent: | W24: =AI27 -> 0 | X24: WeeklyOff: | Z24: =AI28 -> 5 | AA24: Holidays: 0 Leaves Taken:0
H25: Late By Hrs: | K25: =AH39 -> 0.12777778 | L25: Late By Days: | N25: 0
A26: Status | B26: =IF(B33="M","P",IF(B33="E","P",IF(B33="N","P",IF(B33="GS","P",IF(B33="O","O","A"))))) -> P | C26: =IF(C33="M","P",IF(C33="E","P",IF(C33="N","P",IF(C33="GS","P",IF(C33="O","O","A"))))) -> P | D26: =IF(D33="M","P",IF(D33="E","P",IF(D33="N","P",IF(D33="GS","P",IF(D33="O","O","A"))))) -> P | E26: =IF(E33="M","P",IF(E33="E","P",IF(E33="N","P",IF(E33="GS","P",IF(E33="O","O","A"))))) -> P | F26: =IF(F33="M","P",IF(F33="E","P",IF(F33="N","P",IF(F33="GS","P",IF(F33="O","O","A"))))) -> O | G26: =IF(G33="M","P",IF(G33="E","P",IF(G33="N","P",IF(G33="GS","P",IF(G33="O","O","A"))))) -> P | H26: =IF(H33="M","P",IF(H33="E","P",IF(H33="N","P",IF(H33="GS","P",IF(H33="O","O","A"))))) -> P | I26: =IF(I33="M","P",IF(I33="E","P",IF(I33="N","P",IF(I33="GS","P",IF(I33="O","O","A"))))) -> P | ... AF26: =IF(AF33="M","P",IF(AF33="E","P",IF(AF33="N","P",IF(AF33="GS","P",IF(AF33="O","O","A"))))) -> P | AH26: present | AI26: =COUNTIF(B26:AF26,"P") -> 26
A27: InTime | B27: =IF(B33="M",TEXT(7.8/24+RAND()*(8.3/24-7.8/24),"HH:MM"),(IF(B33="E",TEXT(13.8/24+RAND()*(14.3/24-13.8/24),"HH:MM"),IF(B33="GS",TEXT(8.8/24+RAND()*(9.3/24-8.8/24),"HH:MM"),IF(B33="N",TEXT(19.8/24+RAND()*(20.3/24-19.8/24),"HH:MM"),""))))) -> 08:52 | C27: =IF(C33="M",TEXT(7.8/24+RAND()*(8.3/24-7.8/24),"HH:MM"),(IF(C33="E",TEXT(13.8/24+RAND()*(14.3/24-13.8/24),"HH:MM"),IF(C33="GS",TEXT(8.8/24+RAND()*(9.3/24-8.8/24),"HH:MM"),IF(C33="N",TEXT(19.8/24+RAND()*(20.3/24-19.8/24),"HH:MM"),""))))) -> 09:15 | D27: =IF(D33="M",TEXT(7.8/24+RAND()*(8.3/24-7.8/24),"HH:MM"),(IF(D33="E",TEXT(13.8/24+RAND()*(14.3/24-13.8/24),"HH:MM"),IF(D33="GS",TEXT(8.8/24+RAND()*(9.3/24-8.8/24),"HH:MM"),IF(D33="N",TEXT(19.8/24+RAND()*(20.3/24-19.8/24),"HH:MM"),""))))) -> 09:07 | E27: =IF(E33="M",TEXT(7.8/24+RAND()*(8.3/24-7.8/24),"HH:MM"),(IF(E33="E",TEXT(13.8/24+RAND()*(14.3/24-13.8/24),"HH:MM"),IF(E33="GS",TEXT(8.8/24+RAND()*(9.3/24-8.8/24),"HH:MM"),IF(E33="N",TEXT(19.8/24+RAND()*(20.3/24-19.8/24),"HH:MM"),""))))) -> 08:48 | F27: =IF(F33="M",TEXT(7.8/24+RAND()*(8.3/24-7.8/24),"HH:MM"),(IF(F33="E",TEXT(13.8/24+RAND()*(14.3/24-13.8/24),"HH:MM"),IF(F33="GS",TEXT(8.8/24+RAND()*(9.3/24-8.8/24),"HH:MM"),IF(F33="N",TEXT(19.8/24+RAND()*(20.3/24-19.8/24),"HH:MM"),""))))) | G27: =IF(G33="M",TEXT(7.8/24+RAND()*(8.3/24-7.8/24),"HH:MM"),(IF(G33="E",TEXT(13.8/24+RAND()*(14.3/24-13.8/24),"HH:MM"),IF(G33="GS",TEXT(8.8/24+RAND()*(9.3/24-8.8/24),"HH:MM"),IF(G33="N",TEXT(19.8/24+RAND()*(20.3/24-19.8/24),"HH:MM"),""))))) -> 09:16 | H27: =IF(H33="M",TEXT(7.8/24+RAND()*(8.3/24-7.8/24),"HH:MM"),(IF(H33="E",TEXT(13.8/24+RAND()*(14.3/24-13.8/24),"HH:MM"),IF(H33="GS",TEXT(8.8/24+RAND()*(9.3/24-8.8/24),"HH:MM"),IF(H33="N",TEXT(19.8/24+RAND()*(20.3/24-19.8/24),"HH:MM"),""))))) -> 08:51 | I27: =IF(I33="M",TEXT(7.8/24+RAND()*(8.3/24-7.8/24),"HH:MM"),(IF(I33="E",TEXT(13.8/24+RAND()*(14.3/24-13.8/24),"HH:MM"),IF(I33="GS",TEXT(8.8/24+RAND()*(9.3/24-8.8/24),"HH:MM"),IF(I33="N",TEXT(19.8/24+RAND()*(20.3/24-19.8/24),"HH:MM"),""))))) -> 09:16 | ... AF27: =IF(AF33="M",TEXT(7.8/24+RAND()*(8.3/24-7.8/24),"HH:MM"),(IF(AF33="E",TEXT(13.8/24+RAND()*(14.3/24-13.8/24),"HH:MM"),IF(AF33="GS",TEXT(8.8/24+RAND()*(9.3/24-8.8/24),"HH:MM"),IF(AF33="N",TEXT(19.8/24+RAND()*(20.3/24-19.8/24),"HH:MM"),""))))) -> 09:09 | AH27: absent | AI27: =COUNTIF(B26:AF26,"A") -> 0
A28: OutTime | B28: =IF(B33="M",TEXT(17/24+RAND()*(17.3/24-17/24),"HH:MM"),(IF(B33="E",TEXT(20/24+RAND()*(20.3/24-20/24),"HH:MM"),IF(B33="N",TEXT(8/24+RAND()*(8.3/24-8/24),"HH:MM"),IF(B33="GS",TEXT(17/24+RAND()*(17.3/24-17/24),"HH:MM"),""))))) -> 17:12 | C28: =IF(C33="M",TEXT(17/24+RAND()*(17.3/24-17/24),"HH:MM"),(IF(C33="E",TEXT(20/24+RAND()*(20.3/24-20/24),"HH:MM"),IF(C33="N",TEXT(8/24+RAND()*(8.3/24-8/24),"HH:MM"),IF(C33="GS",TEXT(17/24+RAND()*(17.3/24-17/24),"HH:MM"),""))))) -> 17:03 | D28: =IF(D33="M",TEXT(17/24+RAND()*(17.3/24-17/24),"HH:MM"),(IF(D33="E",TEXT(20/24+RAND()*(20.3/24-20/24),"HH:MM"),IF(D33="N",TEXT(8/24+RAND()*(8.3/24-8/24),"HH:MM"),IF(D33="GS",TEXT(17/24+RAND()*(17.3/24-17/24),"HH:MM"),""))))) -> 17:17 | E28: =IF(E33="M",TEXT(17/24+RAND()*(17.3/24-17/24),"HH:MM"),(IF(E33="E",TEXT(20/24+RAND()*(20.3/24-20/24),"HH:MM"),IF(E33="N",TEXT(8/24+RAND()*(8.3/24-8/24),"HH:MM"),IF(E33="GS",TEXT(17/24+RAND()*(17.3/24-17/24),"HH:MM"),""))))) -> 17:12 | F28: =IF(F33="M",TEXT(17/24+RAND()*(17.3/24-17/24),"HH:MM"),(IF(F33="E",TEXT(20/24+RAND()*(20.3/24-20/24),"HH:MM"),IF(F33="N",TEXT(8/24+RAND()*(8.3/24-8/24),"HH:MM"),IF(F33="GS",TEXT(17/24+RAND()*(17.3/24-17/24),"HH:MM"),""))))) | G28: =IF(G33="M",TEXT(17/24+RAND()*(17.3/24-17/24),"HH:MM"),(IF(G33="E",TEXT(20/24+RAND()*(20.3/24-20/24),"HH:MM"),IF(G33="N",TEXT(8/24+RAND()*(8.3/24-8/24),"HH:MM"),IF(G33="GS",TEXT(17/24+RAND()*(17.3/24-17/24),"HH:MM"),""))))) -> 17:04 | H28: =IF(H33="M",TEXT(17/24+RAND()*(17.3/24-17/24),"HH:MM"),(IF(H33="E",TEXT(20/24+RAND()*(20.3/24-20/24),"HH:MM"),IF(H33="N",TEXT(8/24+RAND()*(8.3/24-8/24),"HH:MM"),IF(H33="GS",TEXT(17/24+RAND()*(17.3/24-17/24),"HH:MM"),""))))) -> 17:10 | I28: =IF(I33="M",TEXT(17/24+RAND()*(17.3/24-17/24),"HH:MM"),(IF(I33="E",TEXT(20/24+RAND()*(20.3/24-20/24),"HH:MM"),IF(I33="N",TEXT(8/24+RAND()*(8.3/24-8/24),"HH:MM"),IF(I33="GS",TEXT(17/24+RAND()*(17.3/24-17/24),"HH:MM"),""))))) -> 17:08 | ... AF28: =IF(AF33="M",TEXT(17/24+RAND()*(17.3/24-17/24),"HH:MM"),(IF(AF33="E",TEXT(20/24+RAND()*(20.3/24-20/24),"HH:MM"),IF(AF33="N",TEXT(8/24+RAND()*(8.3/24-8/24),"HH:MM"),IF(AF33="GS",TEXT(17/24+RAND()*(17.3/24-17/24),"HH:MM"),""))))) -> 17:01 | AH28: WeekOFF | AI28: =COUNTIF(B33:AF33,"O") -> 5
A29: Duration | B29: =IF(B33="M",TEXT(B28-B27,"H:MM"),IF(B33="E",TEXT(B28-B27,"H:MM"),IF(B33="N",TEXT(B28+24-B27+30,"H:MM"),IF(B33="GS",TEXT(B28-B27,"H:MM"),"")))) -> 8:20 | C29: =IF(C33="M",TEXT(C28-C27,"H:MM"),IF(C33="E",TEXT(C28-C27,"H:MM"),IF(C33="N",TEXT(C28+24-C27+30,"H:MM"),IF(C33="GS",TEXT(C28-C27,"H:MM"),"")))) -> 7:48 | D29: =IF(D33="M",TEXT(D28-D27,"H:MM"),IF(D33="E",TEXT(D28-D27,"H:MM"),IF(D33="N",TEXT(D28+24-D27+30,"H:MM"),IF(D33="GS",TEXT(D28-D27,"H:MM"),"")))) -> 8:10 | E29: =IF(E33="M",TEXT(E28-E27,"H:MM"),IF(E33="E",TEXT(E28-E27,"H:MM"),IF(E33="N",TEXT(E28+24-E27+30,"H:MM"),IF(E33="GS",TEXT(E28-E27,"H:MM"),"")))) -> 8:24 | F29: =IF(F33="M",TEXT(F28-F27,"H:MM"),IF(F33="E",TEXT(F28-F27,"H:MM"),IF(F33="N",TEXT(F28+24-F27+30,"H:MM"),IF(F33="GS",TEXT(F28-F27,"H:MM"),"")))) | G29: =IF(G33="M",TEXT(G28-G27,"H:MM"),IF(G33="E",TEXT(G28-G27,"H:MM"),IF(G33="N",TEXT(G28+24-G27+30,"H:MM"),IF(G33="GS",TEXT(G28-G27,"H:MM"),"")))) -> 7:48 | H29: =IF(H33="M",TEXT(H28-H27,"H:MM"),IF(H33="E",TEXT(H28-H27,"H:MM"),IF(H33="N",TEXT(H28+24-H27+30,"H:MM"),IF(H33="GS",TEXT(H28-H27,"H:MM"),"")))) -> 8:19 | I29: =IF(I33="M",TEXT(I28-I27,"H:MM"),IF(I33="E",TEXT(I28-I27,"H:MM"),IF(I33="N",TEXT(I28+24-I27+30,"H:MM"),IF(I33="GS",TEXT(I28-I27,"H:MM"),"")))) -> 7:52 | ... AF29: =IF(AF33="M",TEXT(AF28-AF27,"H:MM"),IF(AF33="E",TEXT(AF28-AF27,"H:MM"),IF(AF33="N",TEXT(AF28+24-AF27+30,"H:MM"),IF(AF33="GS",TEXT(AF28-AF27,"H:MM"),"")))) -> 7:52 | AH29: late by days | AI29: =COUNTIF(B30:AF30,(B30:AF30)>0) -> 0
A30: Late By | B30: =IF(AND(B33="GS",B35>$B$19),TEXT(B35-$B$19,"HH:MM"),IF(AND(B33="M",B35>$B$15),TEXT(B35-$B$15,"HH:MM"),IF(AND(B33="E",B35>$B$17),TEXT(B35-$B$17,"HH:MM"),IF(AND(B33="N",B35>$B$18),TEXT(B35-$B$18,"HH:MM"),IF(OR(B33="O",B33="A"),"",0))))) -> 0 | C30: =IF(AND(C33="GS",C35>$B$19),TEXT(C35-$B$19,"HH:MM"),IF(AND(C33="M",C35>$B$15),TEXT(C35-$B$15,"HH:MM"),IF(AND(C33="E",C35>$B$17),TEXT(C35-$B$17,"HH:MM"),IF(AND(C33="N",C35>$B$18),TEXT(C35-$B$18,"HH:MM"),IF(OR(C33="O",C33="A"),"",0))))) -> 00:15 | D30: =IF(AND(D33="GS",D35>$B$19),TEXT(D35-$B$19,"HH:MM"),IF(AND(D33="M",D35>$B$15),TEXT(D35-$B$15,"HH:MM"),IF(AND(D33="E",D35>$B$17),TEXT(D35-$B$17,"HH:MM"),IF(AND(D33="N",D35>$B$18),TEXT(D35-$B$18,"HH:MM"),IF(OR(D33="O",D33="A"),"",0))))) -> 00:07 | E30: =IF(AND(E33="GS",E35>$B$19),TEXT(E35-$B$19,"HH:MM"),IF(AND(E33="M",E35>$B$15),TEXT(E35-$B$15,"HH:MM"),IF(AND(E33="E",E35>$B$17),TEXT(E35-$B$17,"HH:MM"),IF(AND(E33="N",E35>$B$18),TEXT(E35-$B$18,"HH:MM"),IF(OR(E33="O",E33="A"),"",0))))) -> 0 | F30: =IF(AND(F33="GS",F35>$B$19),TEXT(F35-$B$19,"HH:MM"),IF(AND(F33="M",F35>$B$15),TEXT(F35-$B$15,"HH:MM"),IF(AND(F33="E",F35>$B$17),TEXT(F35-$B$17,"HH:MM"),IF(AND(F33="N",F35>$B$18),TEXT(F35-$B$18,"HH:MM"),IF(OR(F33="O",F33="A"),"",0))))) | G30: =IF(AND(G33="GS",G35>$B$19),TEXT(G35-$B$19,"HH:MM"),IF(AND(G33="M",G35>$B$15),TEXT(G35-$B$15,"HH:MM"),IF(AND(G33="E",G35>$B$17),TEXT(G35-$B$17,"HH:MM"),IF(AND(G33="N",G35>$B$18),TEXT(G35-$B$18,"HH:MM"),IF(OR(G33="O",G33="A"),"",0))))) -> 00:16 | H30: =IF(AND(H33="GS",H35>$B$19),TEXT(H35-$B$19,"HH:MM"),IF(AND(H33="M",H35>$B$15),TEXT(H35-$B$15,"HH:MM"),IF(AND(H33="E",H35>$B$17),TEXT(H35-$B$17,"HH:MM"),IF(AND(H33="N",H35>$B$18),TEXT(H35-$B$18,"HH:MM"),IF(OR(H33="O",H33="A"),"",0))))) -> 0 | I30: =IF(AND(I33="GS",I35>$B$19),TEXT(I35-$B$19,"HH:MM"),IF(AND(I33="M",I35>$B$15),TEXT(I35-$B$15,"HH:MM"),IF(AND(I33="E",I35>$B$17),TEXT(I35-$B$17,"HH:MM"),IF(AND(I33="N",I35>$B$18),TEXT(I35-$B$18,"HH:MM"),IF(OR(I33="O",I33="A"),"",0))))) -> 00:16 | ... AF30: =IF(AND(AF33="GS",AF35>$B$19),TEXT(AF35-$B$19,"HH:MM"),IF(AND(AF33="M",AF35>$B$15),TEXT(AF35-$B$15,"HH:MM"),IF(AND(AF33="E",AF35>$B$17),TEXT(AF35-$B$17,"HH:MM"),IF(AND(AF33="N",AF35>$B$18),TEXT(AF35-$B$18,"HH:MM"),IF(OR(AF33="O",AF33="A"),"",0))))) -> 00:09
A31: Early By
A32: OT
A33: Shift | B33: =Entry!B4 -> GS | C33: =Entry!C4 -> GS | D33: =Entry!D4 -> GS | E33: =Entry!E4 -> GS | F33: =Entry!F4 -> O | G33: =Entry!G4 -> GS | H33: =Entry!H4 -> GS | I33: =Entry!I4 -> GS | ... AF33: =Entry!AF4 -> GS
A34: M | B34: 0.33333333
B35: =IF(OR(B33="O",B33="A"),"O ",VALUE(B27)) -> 0.36944444 | C35: =IF(OR(C33="O",C33="A"),"O ",VALUE(C27)) -> 0.38541667 | D35: =IF(OR(D33="O",D33="A"),"O ",VALUE(D27)) -> 0.37986111 | E35: =IF(OR(E33="O",E33="A"),"O ",VALUE(E27)) -> 0.36666667 | F35: =IF(OR(F33="O",F33="A"),"O ",VALUE(F27)) -> O | G35: =IF(OR(G33="O",G33="A"),"O ",VALUE(G27)) -> 0.38611111 | H35: =IF(OR(H33="O",H33="A"),"O ",VALUE(H27)) -> 0.36875 | I35: =IF(OR(I33="O",I33="A"),"O ",VALUE(I27)) -> 0.38611111 | ... AF35: =IF(OR(AF33="O",AF33="A"),"O ",VALUE(AF27)) -> 0.38125
A36: E | B36: 0.58333333
A37: N | B37: 0.83333333
A38: GS | B38: 0.375
A39: Late | B39: =IF(OR(B33="O",B33="A"),0,VALUE(B30)) -> 0 | C39: =IF(OR(C33="O",C33="A"),0,VALUE(C30)) -> 0.010416667 | D39: =IF(OR(D33="O",D33="A"),0,VALUE(D30)) -> 0.0048611111 | E39: =IF(OR(E33="O",E33="A"),0,VALUE(E30)) -> 0 | F39: =IF(OR(F33="O",F33="A"),0,VALUE(F30)) -> 0 | G39: =IF(OR(G33="O",G33="A"),0,VALUE(G30)) -> 0.011111111 | H39: =IF(OR(H33="O",H33="A"),0,VALUE(H30)) -> 0 | I39: =IF(OR(I33="O",I33="A"),0,VALUE(I30)) -> 0.011111111 | ... AF39: =IF(OR(AF33="O",AF33="A"),0,VALUE(AF30)) -> 0.00625 | AH39: =SUM(B39:AF39) -> 0.12777778
B40: =IF(OR(B33="O",B33="A"),0,VALUE(B29)) -> 0.34722222 | C40: =IF(OR(C33="O",C33="A"),0,VALUE(C29)) -> 0.325 | D40: =IF(OR(D33="O",D33="A"),0,VALUE(D29)) -> 0.34027778 | E40: =IF(OR(E33="O",E33="A"),0,VALUE(E29)) -> 0.35 | F40: =IF(OR(F33="O",F33="A"),0,VALUE(F29)) -> 0 | G40: =IF(OR(G33="O",G33="A"),0,VALUE(G29)) -> 0.325 | H40: =IF(OR(H33="O",H33="A"),0,VALUE(H29)) -> 0.34652778 | I40: =IF(OR(I33="O",I33="A"),0,VALUE(I29)) -> 0.32777778 | ... AF40: =IF(OR(AF33="O",AF33="A"),0,VALUE(AF29)) -> 0.32777778 | AH40: =SUM(B40:AF40) -> 8.7451389
A45: =Entry!A5 -> DR. PANKAJ VERMA | H45: Total Work Duration: | L45: =AH61 -> 8.7840278 | M45: Hrs. | N45: Total OT: | P45: 0 | Q45: Hrs | R45: Present: | T45: =AI47 -> 26 | U45: Absent: | W45: =AI48 -> 0 | X45: WeeklyOff: | Z45: =AI49 -> 5 | AA45: Holidays: 0 Leaves Taken:0
H46: Late By Hrs: | K46: =AH60 -> 0.1125 | L46: Late By Days: | N46: 0
A47: Status | B47: =IF(B54="M","P",IF(B54="E","P",IF(B54="N","P",IF(B54="GS","P",IF(B54="O","O","A"))))) -> P | C47: =IF(C54="M","P",IF(C54="E","P",IF(C54="N","P",IF(C54="GS","P",IF(C54="O","O","A"))))) -> P | D47: =IF(D54="M","P",IF(D54="E","P",IF(D54="N","P",IF(D54="GS","P",IF(D54="O","O","A"))))) -> P | E47: =IF(E54="M","P",IF(E54="E","P",IF(E54="N","P",IF(E54="GS","P",IF(E54="O","O","A"))))) -> P | F47: =IF(F54="M","P",IF(F54="E","P",IF(F54="N","P",IF(F54="GS","P",IF(F54="O","O","A"))))) -> O | G47: =IF(G54="M","P",IF(G54="E","P",IF(G54="N","P",IF(G54="GS","P",IF(G54="O","O","A"))))) -> P | H47: =IF(H54="M","P",IF(H54="E","P",IF(H54="N","P",IF(H54="GS","P",IF(H54="O","O","A"))))) -> P | I47: =IF(I54="M","P",IF(I54="E","P",IF(I54="N","P",IF(I54="GS","P",IF(I54="O","O","A"))))) -> P | ... AF47: =IF(AF54="M","P",IF(AF54="E","P",IF(AF54="N","P",IF(AF54="GS","P",IF(AF54="O","O","A"))))) -> P | AH47: present | AI47: =COUNTIF(B47:AF47,"P") -> 26
...
